{"text_format":"3","workbook":"xlsx","n_sheets":3,"sheets":["隐患汇总表","数据","隐患记录表2022"],"not_rendered":{"charts":4,"defined_names":2},"read":"whole","date_system":"1900"}

{"sheet":"隐患汇总表","index":0,"n_rows":85,"n_cols":37,"rows_kept":85,"merged":[[0,1,0,36],[1,2,1,3],[1,4,1,5],[1,6,1,7],[1,8,1,9],[1,10,1,11],[1,12,1,13],[1,14,1,15],[1,16,1,17],[1,18,1,19],[1,20,1,21],[1,22,1,23],[1,24,1,25],[1,26,1,27],[1,28,1,29],[1,30,1,31],[1,32,1,33],[1,34,1,35],[16,2,16,3],[16,4,16,5],[16,6,16,7],[16,8,16,9],[16,10,16,11],[16,12,16,13],[16,14,16,15],[16,16,16,17],[16,18,16,19],[16,20,16,21],[16,22,16,23],[16,24,16,25],[16,26,16,27],[16,28,16,29],[16,30,16,31],[16,32,16,33],[16,34,16,35],[17,1,17,3],[17,5,17,6],[54,1,54,17],[58,0,58,1],[59,0,59,1],[60,0,60,1],[61,0,61,1],[62,0,62,1],[63,0,63,1],[64,0,64,1],[65,0,65,1],[66,0,66,1],[67,0,67,1],[68,0,68,1],[69,0,69,1],[70,0,70,1],[71,0,71,1]]}
[null,"工投集团各权属单位隐患排查与整改情况汇总"]
[null,"单位","青口投资公司",null,"台北投资公司",null,"徐圩投资公司",null,"灌西投资公司",null,"利海化工",null,"氨纶公司",null,"奥神新材料",null,"神特新材料",null,"金桥制盐",null,"华茂公司",null,"供电公司",null,"房地产公司",null,"供销公司",null,"资产公司",null,"金航公司",null,"纤维研究院",null,"合计",null,"月整改率"]
[null,null,"隐患","整改","隐患","整改","隐患","整改","隐患","整改","隐患","整改","隐患","整改","隐患","整改","隐患","整改","隐患","整改","隐患","整改","隐患","整改","隐患","整改","隐患","整改","隐患","整改","隐患","整改","隐患","整改","隐患","整改"]
[null,"1月",{"$f":"COUNTIFS(隐患记录表2022!#REF!,\"=\"&C$2,隐患记录表2022!$C:$C,\"=\"&$B4)","v":{"$error":"#REF!"}},{"$f":"COUNTIFS(隐患记录表2022!$J:$J,\"=√\",隐患记录表2022!$C:$C,\"=\"&$B4,隐患记录表2022!#REF!,\"=\"&C$2)","v":{"$error":"#REF!"}},{"$f":"COUNTIFS(隐患记录表2022!#REF!,\"=\"&E$2,隐患记录表2022!$C:$C,\"=\"&$B4)","v":{"$error":"#REF!"}},{"$f":"COUNTIFS(隐患记录表2022!$J:$J,\"=√\",隐患记录表2022!$C:$C,\"=\"&$B4,隐患记录表2022!#REF!,\"=\"&E$2)","v":{"$error":"#REF!"}},{"$f":"COUNTIFS(隐患记录表2022!#REF!,\"=\"&G$2,隐患记录表2022!$C:$C,\"=\"&$B4)","v":{"$error":"#REF!"}},{"$f":"COUNTIFS(隐患记录表2022!$J:$J,\"=√\",隐患记录表2022!$C:$C,\"=\"&$B4,隐患记录表2022!#REF!,\"=\"&G$2)","v":{"$error":"#REF!"}},{"$f":"COUNTIFS(隐患记录表2022!#REF!,\"=\"&I$2,隐患记录表2022!$C:$C,\"=\"&$B4)","v":{"$error":"#REF!"}},{"$f":"COUNTIFS(隐患记录表2022!$J:$J,\"=√\",隐患记录表2022!$C:$C,\"=\"&$B4,隐患记录表2022!#REF!,\"=\"&I$2)","v":{"$error":"#REF!"}},{"$f":"COUNTIFS(隐患记录表2022!#REF!,\"=\"&K$2,隐患记录表2022!$C:$C,\"=\"&$B4)","v":{"$error":"#REF!"}},{"$f":"COUNTIFS(隐患记录表2022!$J:$J,\"=√\",隐患记录表2022!$C:$C,\"=\"&$B4,隐患记录表2022!#REF!,\"=\"&K$2)","v":{"$error":"#REF!"}},{"$f":"COUNTIFS(隐患记录表2022!#REF!,\"=\"&M$2,隐患记录表2022!$C:$C,\"=\"&$B4)","v":{"$error":"#REF!"}},{"$f":"COUNTIFS(隐患记录表2022!$J:$J,\"=√\",隐患记录表2022!$C:$C,\"=\"&$B4,隐患记录表2022!#REF!,\"=\"&M$2)","v":{"$error":"#REF!"}},{"$f":"COUNTIFS(隐患记录表2022!#REF!,\"=\"&O$2,隐患记录表2022!$C:$C,\"=\"&$B4)","v":{"$error":"#REF!"}},{"$f":"COUNTIFS(隐患记录表2022!$J:$J,\"=√\",隐患记录表2022!$C:$C,\"=\"&$B4,隐患记录表2022!#REF!,\"=\"&O$2)","v":{"$error":"#REF!"}},{"$f":"COUNTIFS(隐患记录表2022!#REF!,\"=\"&Q$2,隐患记录表2022!$C:$C,\"=\"&$B4)","v":{"$error":"#REF!"}},{"$f":"COUNTIFS(隐患记录表2022!$J:$J,\"=√\",隐患记录表2022!$C:$C,\"=\"&$B4,隐患记录表2022!#REF!,\"=\"&Q$2)","v":{"$error":"#REF!"}},{"$f":"COUNTIFS(隐患记录表2022!#REF!,\"=\"&S$2,隐患记录表2022!$C:$C,\"=\"&$B4)","v":{"$error":"#REF!"}},{"$f":"COUNTIFS(隐患记录表2022!$J:$J,\"=√\",隐患记录表2022!$C:$C,\"=\"&$B4,隐患记录表2022!#REF!,\"=\"&S$2)","v":{"$error":"#REF!"}},{"$f":"COUNTIFS(隐患记录表2022!#REF!,\"=\"&U$2,隐患记录表2022!$C:$C,\"=\"&$B4)","v":{"$error":"#REF!"}},{"$f":"COUNTIFS(隐患记录表2022!$J:$J,\"=√\",隐患记录表2022!$C:$C,\"=\"&$B4,隐患记录表2022!#REF!,\"=\"&U$2)","v":{"$error":"#REF!"}},{"$f":"COUNTIFS(隐患记录表2022!#REF!,\"=\"&W$2,隐患记录表2022!$C:$C,\"=\"&$B4)","v":{"$error":"#REF!"}},{"$f":"COUNTIFS(隐患记录表2022!$J:$J,\"=√\",隐患记录表2022!$C:$C,\"=\"&$B4,隐患记录表2022!#REF!,\"=\"&W$2)","v":{"$error":"#REF!"}},{"$f":"COUNTIFS(隐患记录表2022!#REF!,\"=\"&Y$2,隐患记录表2022!$C:$C,\"=\"&$B4)","v":{"$error":"#REF!"}},{"$f":"COUNTIFS(隐患记录表2022!$J:$J,\"=√\",隐患记录表2022!$C:$C,\"=\"&$B4,隐患记录表2022!#REF!,\"=\"&Y$2)","v":{"$error":"#REF!"}},{"$f":"COUNTIFS(隐患记录表2022!#REF!,\"=\"&AA$2,隐患记录表2022!$C:$C,\"=\"&$B4)","v":{"$error":"#REF!"}},{"$f":"COUNTIFS(隐患记录表2022!$J:$J,\"=√\",隐患记录表2022!$C:$C,\"=\"&$B4,隐患记录表2022!#REF!,\"=\"&AA$2)","v":{"$error":"#REF!"}},{"$f":"COUNTIFS(隐患记录表2022!#REF!,\"=\"&AC$2,隐患记录表2022!$C:$C,\"=\"&$B4)","v":{"$error":"#REF!"}},{"$f":"COUNTIFS(隐患记录表2022!$J:$J,\"=√\",隐患记录表2022!$C:$C,\"=\"&$B4,隐患记录表2022!#REF!,\"=\"&AC$2)","v":{"$error":"#REF!"}},{"$f":"COUNTIFS(隐患记录表2022!#REF!,\"=\"&AE$2,隐患记录表2022!$C:$C,\"=\"&$B4)","v":{"$error":"#REF!"}},{"$f":"COUNTIFS(隐患记录表2022!$J:$J,\"=√\",隐患记录表2022!$C:$C,\"=\"&$B4,隐患记录表2022!#REF!,\"=\"&AE$2)","v":{"$error":"#REF!"}},{"$f":"COUNTIFS(隐患记录表2022!#REF!,\"=\"&AG$2,隐患记录表2022!$C:$C,\"=\"&$B4)","v":{"$error":"#REF!"}},{"$f":"COUNTIFS(隐患记录表2022!$J:$J,\"=√\",隐患记录表2022!$C:$C,\"=\"&$B4,隐患记录表2022!#REF!,\"=\"&AG$2)","v":{"$error":"#REF!"}},{"$f":"C4+E4+G4+I4+K4+M4+O4+Q4+S4+U4+W4+Y4+AA4+AC4+AE4+AG4","v":{"$error":"#REF!"}},{"$f":"D4+F4+H4+J4+L4+N4+P4+R4+T4+V4+X4+Z4+AB4+AD4+AF4+AH4","v":{"$error":"#REF!"}},{"$f":"IFERROR(AJ4/AI4*100,100)","v":{"v":100,"d":"100.00"}}]
[null,"2月",{"$f":"COUNTIFS(隐患记录表2022!#REF!,\"=\"&C$2,隐患记录表2022!$C:$C,\"=\"&$B5)","v":{"$error":"#REF!"}},{"$f":"COUNTIFS(隐患记录表2022!$J:$J,\"=√\",隐患记录表2022!$C:$C,\"=\"&$B5,隐患记录表2022!#REF!,\"=\"&C$2)","v":{"$error":"#REF!"}},{"$f":"COUNTIFS(隐患记录表2022!#REF!,\"=\"&E$2,隐患记录表2022!$C:$C,\"=\"&$B5)","v":{"$error":"#REF!"}},{"$f":"COUNTIFS(隐患记录表2022!$J:$J,\"=√\",隐患记录表2022!$C:$C,\"=\"&$B5,隐患记录表2022!#REF!,\"=\"&E$2)","v":{"$error":"#REF!"}},{"$f":"COUNTIFS(隐患记录表2022!#REF!,\"=\"&G$2,隐患记录表2022!$C:$C,\"=\"&$B5)","v":{"$error":"#REF!"}},{"$f":"COUNTIFS(隐患记录表2022!$J:$J,\"=√\",隐患记录表2022!$C:$C,\"=\"&$B5,隐患记录表2022!#REF!,\"=\"&G$2)","v":{"$error":"#REF!"}},{"$f":"COUNTIFS(隐患记录表2022!#REF!,\"=\"&I$2,隐患记录表2022!$C:$C,\"=\"&$B5)","v":{"$error":"#REF!"}},{"$f":"COUNTIFS(隐患记录表2022!$J:$J,\"=√\",隐患记录表2022!$C:$C,\"=\"&$B5,隐患记录表2022!#REF!,\"=\"&I$2)","v":{"$error":"#REF!"}},{"$f":"COUNTIFS(隐患记录表2022!#REF!,\"=\"&K$2,隐患记录表2022!$C:$C,\"=\"&$B5)","v":{"$error":"#REF!"}},{"$f":"COUNTIFS(隐患记录表2022!$J:$J,\"=√\",隐患记录表2022!$C:$C,\"=\"&$B5,隐患记录表2022!#REF!,\"=\"&K$2)","v":{"$error":"#REF!"}},{"$f":"COUNTIFS(隐患记录表2022!#REF!,\"=\"&M$2,隐患记录表2022!$C:$C,\"=\"&$B5)","v":{"$error":"#REF!"}},{"$f":"COUNTIFS(隐患记录表2022!$J:$J,\"=√\",隐患记录表2022!$C:$C,\"=\"&$B5,隐患记录表2022!#REF!,\"=\"&M$2)","v":{"$error":"#REF!"}},{"$f":"COUNTIFS(隐患记录表2022!#REF!,\"=\"&O$2,隐患记录表2022!$C:$C,\"=\"&$B5)","v":{"$error":"#REF!"}},{"$f":"COUNTIFS(隐患记录表2022!$J:$J,\"=√\",隐患记录表2022!$C:$C,\"=\"&$B5,隐患记录表2022!#REF!,\"=\"&O$2)","v":{"$error":"#REF!"}},{"$f":"COUNTIFS(隐患记录表2022!#REF!,\"=\"&Q$2,隐患记录表2022!$C:$C,\"=\"&$B5)","v":{"$error":"#REF!"}},{"$f":"COUNTIFS(隐患记录表2022!$J:$J,\"=√\",隐患记录表2022!$C:$C,\"=\"&$B5,隐患记录表2022!#REF!,\"=\"&Q$2)","v":{"$error":"#REF!"}},{"$f":"COUNTIFS(隐患记录表2022!#REF!,\"=\"&S$2,隐患记录表2022!$C:$C,\"=\"&$B5)","v":{"$error":"#REF!"}},{"$f":"COUNTIFS(隐患记录表2022!$J:$J,\"=√\",隐患记录表2022!$C:$C,\"=\"&$B5,隐患记录表2022!#REF!,\"=\"&S$2)","v":{"$error":"#REF!"}},{"$f":"COUNTIFS(隐患记录表2022!#REF!,\"=\"&U$2,隐患记录表2022!$C:$C,\"=\"&$B5)","v":{"$error":"#REF!"}},{"$f":"COUNTIFS(隐患记录表2022!$J:$J,\"=√\",隐患记录表2022!$C:$C,\"=\"&$B5,隐患记录表2022!#REF!,\"=\"&U$2)","v":{"$error":"#REF!"}},{"$f":"COUNTIFS(隐患记录表2022!#REF!,\"=\"&W$2,隐患记录表2022!$C:$C,\"=\"&$B5)","v":{"$error":"#REF!"}},{"$f":"COUNTIFS(隐患记录表2022!$J:$J,\"=√\",隐患记录表2022!$C:$C,\"=\"&$B5,隐患记录表2022!#REF!,\"=\"&W$2)","v":{"$error":"#REF!"}},{"$f":"COUNTIFS(隐患记录表2022!#REF!,\"=\"&Y$2,隐患记录表2022!$C:$C,\"=\"&$B5)","v":{"$error":"#REF!"}},{"$f":"COUNTIFS(隐患记录表2022!$J:$J,\"=√\",隐患记录表2022!$C:$C,\"=\"&$B5,隐患记录表2022!#REF!,\"=\"&Y$2)","v":{"$error":"#REF!"}},{"$f":"COUNTIFS(隐患记录表2022!#REF!,\"=\"&AA$2,隐患记录表2022!$C:$C,\"=\"&$B5)","v":{"$error":"#REF!"}},{"$f":"COUNTIFS(隐患记录表2022!$J:$J,\"=√\",隐患记录表2022!$C:$C,\"=\"&$B5,隐患记录表2022!#REF!,\"=\"&AA$2)","v":{"$error":"#REF!"}},{"$f":"COUNTIFS(隐患记录表2022!#REF!,\"=\"&AC$2,隐患记录表2022!$C:$C,\"=\"&$B5)","v":{"$error":"#REF!"}},{"$f":"COUNTIFS(隐患记录表2022!$J:$J,\"=√\",隐患记录表2022!$C:$C,\"=\"&$B5,隐患记录表2022!#REF!,\"=\"&AC$2)","v":{"$error":"#REF!"}},{"$f":"COUNTIFS(隐患记录表2022!#REF!,\"=\"&AE$2,隐患记录表2022!$C:$C,\"=\"&$B5)","v":{"$error":"#REF!"}},{"$f":"COUNTIFS(隐患记录表2022!$J:$J,\"=√\",隐患记录表2022!$C:$C,\"=\"&$B5,隐患记录表2022!#REF!,\"=\"&AE$2)","v":{"$error":"#REF!"}},{"$f":"COUNTIFS(隐患记录表2022!#REF!,\"=\"&AG$2,隐患记录表2022!$C:$C,\"=\"&$B5)","v":{"$error":"#REF!"}},{"$f":"COUNTIFS(隐患记录表2022!$J:$J,\"=√\",隐患记录表2022!$C:$C,\"=\"&$B5,隐患记录表2022!#REF!,\"=\"&AG$2)","v":{"$error":"#REF!"}},{"$error":"#REF!"},{"$error":"#REF!"},{"$f":"IFERROR(AJ5/AI5*100,100)","v":{"v":100,"d":"100.00"}}]
[null,"3月",{"$f":"COUNTIFS(隐患记录表2022!#REF!,\"=\"&C$2,隐患记录表2022!$C:$C,\"=\"&$B6)","v":{"$error":"#REF!"}},{"$f":"COUNTIFS(隐患记录表2022!$J:$J,\"=√\",隐患记录表2022!$C:$C,\"=\"&$B6,隐患记录表2022!#REF!,\"=\"&C$2)","v":{"$error":"#REF!"}},{"$f":"COUNTIFS(隐患记录表2022!#REF!,\"=\"&E$2,隐患记录表2022!$C:$C,\"=\"&$B6)","v":{"$error":"#REF!"}},{"$f":"COUNTIFS(隐患记录表2022!$J:$J,\"=√\",隐患记录表2022!$C:$C,\"=\"&$B6,隐患记录表2022!#REF!,\"=\"&E$2)","v":{"$error":"#REF!"}},{"$f":"COUNTIFS(隐患记录表2022!#REF!,\"=\"&G$2,隐患记录表2022!$C:$C,\"=\"&$B6)","v":{"$error":"#REF!"}},{"$f":"COUNTIFS(隐患记录表2022!$J:$J,\"=√\",隐患记录表2022!$C:$C,\"=\"&$B6,隐患记录表2022!#REF!,\"=\"&G$2)","v":{"$error":"#REF!"}},{"$f":"COUNTIFS(隐患记录表2022!#REF!,\"=\"&I$2,隐患记录表2022!$C:$C,\"=\"&$B6)","v":{"$error":"#REF!"}},{"$f":"COUNTIFS(隐患记录表2022!$J:$J,\"=√\",隐患记录表2022!$C:$C,\"=\"&$B6,隐患记录表2022!#REF!,\"=\"&I$2)","v":{"$error":"#REF!"}},{"$f":"COUNTIFS(隐患记录表2022!#REF!,\"=\"&K$2,隐患记录表2022!$C:$C,\"=\"&$B6)","v":{"$error":"#REF!"}},{"$f":"COUNTIFS(隐患记录表2022!$J:$J,\"=√\",隐患记录表2022!$C:$C,\"=\"&$B6,隐患记录表2022!#REF!,\"=\"&K$2)","v":{"$error":"#REF!"}},{"$f":"COUNTIFS(隐患记录表2022!#REF!,\"=\"&M$2,隐患记录表2022!$C:$C,\"=\"&$B6)","v":{"$error":"#REF!"}},{"$f":"COUNTIFS(隐患记录表2022!$J:$J,\"=√\",隐患记录表2022!$C:$C,\"=\"&$B6,隐患记录表2022!#REF!,\"=\"&M$2)","v":{"$error":"#REF!"}},{"$f":"COUNTIFS(隐患记录表2022!#REF!,\"=\"&O$2,隐患记录表2022!$C:$C,\"=\"&$B6)","v":{"$error":"#REF!"}},{"$f":"COUNTIFS(隐患记录表2022!$J:$J,\"=√\",隐患记录表2022!$C:$C,\"=\"&$B6,隐患记录表2022!#REF!,\"=\"&O$2)","v":{"$error":"#REF!"}},{"$f":"COUNTIFS(隐患记录表2022!#REF!,\"=\"&Q$2,隐患记录表2022!$C:$C,\"=\"&$B6)","v":{"$error":"#REF!"}},{"$f":"COUNTIFS(隐患记录表2022!$J:$J,\"=√\",隐患记录表2022!$C:$C,\"=\"&$B6,隐患记录表2022!#REF!,\"=\"&Q$2)","v":{"$error":"#REF!"}},{"$f":"COUNTIFS(隐患记录表2022!#REF!,\"=\"&S$2,隐患记录表2022!$C:$C,\"=\"&$B6)","v":{"$error":"#REF!"}},{"$f":"COUNTIFS(隐患记录表2022!$J:$J,\"=√\",隐患记录表2022!$C:$C,\"=\"&$B6,隐患记录表2022!#REF!,\"=\"&S$2)","v":{"$error":"#REF!"}},{"$f":"COUNTIFS(隐患记录表2022!#REF!,\"=\"&U$2,隐患记录表2022!$C:$C,\"=\"&$B6)","v":{"$error":"#REF!"}},{"$f":"COUNTIFS(隐患记录表2022!$J:$J,\"=√\",隐患记录表2022!$C:$C,\"=\"&$B6,隐患记录表2022!#REF!,\"=\"&U$2)","v":{"$error":"#REF!"}},{"$f":"COUNTIFS(隐患记录表2022!#REF!,\"=\"&W$2,隐患记录表2022!$C:$C,\"=\"&$B6)","v":{"$error":"#REF!"}},{"$f":"COUNTIFS(隐患记录表2022!$J:$J,\"=√\",隐患记录表2022!$C:$C,\"=\"&$B6,隐患记录表2022!#REF!,\"=\"&W$2)","v":{"$error":"#REF!"}},{"$f":"COUNTIFS(隐患记录表2022!#REF!,\"=\"&Y$2,隐患记录表2022!$C:$C,\"=\"&$B6)","v":{"$error":"#REF!"}},{"$f":"COUNTIFS(隐患记录表2022!$J:$J,\"=√\",隐患记录表2022!$C:$C,\"=\"&$B6,隐患记录表2022!#REF!,\"=\"&Y$2)","v":{"$error":"#REF!"}},{"$f":"COUNTIFS(隐患记录表2022!#REF!,\"=\"&AA$2,隐患记录表2022!$C:$C,\"=\"&$B6)","v":{"$error":"#REF!"}},{"$f":"COUNTIFS(隐患记录表2022!$J:$J,\"=√\",隐患记录表2022!$C:$C,\"=\"&$B6,隐患记录表2022!#REF!,\"=\"&AA$2)","v":{"$error":"#REF!"}},{"$f":"COUNTIFS(隐患记录表2022!#REF!,\"=\"&AC$2,隐患记录表2022!$C:$C,\"=\"&$B6)","v":{"$error":"#REF!"}},{"$f":"COUNTIFS(隐患记录表2022!$J:$J,\"=√\",隐患记录表2022!$C:$C,\"=\"&$B6,隐患记录表2022!#REF!,\"=\"&AC$2)","v":{"$error":"#REF!"}},{"$f":"COUNTIFS(隐患记录表2022!#REF!,\"=\"&AE$2,隐患记录表2022!$C:$C,\"=\"&$B6)","v":{"$error":"#REF!"}},{"$f":"COUNTIFS(隐患记录表2022!$J:$J,\"=√\",隐患记录表2022!$C:$C,\"=\"&$B6,隐患记录表2022!#REF!,\"=\"&AE$2)","v":{"$error":"#REF!"}},{"$f":"COUNTIFS(隐患记录表2022!#REF!,\"=\"&AG$2,隐患记录表2022!$C:$C,\"=\"&$B6)","v":{"$error":"#REF!"}},{"$f":"COUNTIFS(隐患记录表2022!$J:$J,\"=√\",隐患记录表2022!$C:$C,\"=\"&$B6,隐患记录表2022!#REF!,\"=\"&AG$2)","v":{"$error":"#REF!"}},{"$error":"#REF!"},{"$error":"#REF!"},{"v":100,"d":"100.00"}]
[null,"4月",{"$f":"COUNTIFS(隐患记录表2022!#REF!,\"=\"&C$2,隐患记录表2022!$C:$C,\"=\"&$B7)","v":{"$error":"#REF!"}},{"$f":"COUNTIFS(隐患记录表2022!$J:$J,\"=√\",隐患记录表2022!$C:$C,\"=\"&$B7,隐患记录表2022!#REF!,\"=\"&C$2)","v":{"$error":"#REF!"}},{"$f":"COUNTIFS(隐患记录表2022!#REF!,\"=\"&E$2,隐患记录表2022!$C:$C,\"=\"&$B7)","v":{"$error":"#REF!"}},{"$f":"COUNTIFS(隐患记录表2022!$J:$J,\"=√\",隐患记录表2022!$C:$C,\"=\"&$B7,隐患记录表2022!#REF!,\"=\"&E$2)","v":{"$error":"#REF!"}},{"$f":"COUNTIFS(隐患记录表2022!#REF!,\"=\"&G$2,隐患记录表2022!$C:$C,\"=\"&$B7)","v":{"$error":"#REF!"}},{"$f":"COUNTIFS(隐患记录表2022!$J:$J,\"=√\",隐患记录表2022!$C:$C,\"=\"&$B7,隐患记录表2022!#REF!,\"=\"&G$2)","v":{"$error":"#REF!"}},{"$f":"COUNTIFS(隐患记录表2022!#REF!,\"=\"&I$2,隐患记录表2022!$C:$C,\"=\"&$B7)","v":{"$error":"#REF!"}},{"$f":"COUNTIFS(隐患记录表2022!$J:$J,\"=√\",隐患记录表2022!$C:$C,\"=\"&$B7,隐患记录表2022!#REF!,\"=\"&I$2)","v":{"$error":"#REF!"}},{"$f":"COUNTIFS(隐患记录表2022!#REF!,\"=\"&K$2,隐患记录表2022!$C:$C,\"=\"&$B7)","v":{"$error":"#REF!"}},{"$f":"COUNTIFS(隐患记录表2022!$J:$J,\"=√\",隐患记录表2022!$C:$C,\"=\"&$B7,隐患记录表2022!#REF!,\"=\"&K$2)","v":{"$error":"#REF!"}},{"$f":"COUNTIFS(隐患记录表2022!#REF!,\"=\"&M$2,隐患记录表2022!$C:$C,\"=\"&$B7)","v":{"$error":"#REF!"}},{"$f":"COUNTIFS(隐患记录表2022!$J:$J,\"=√\",隐患记录表2022!$C:$C,\"=\"&$B7,隐患记录表2022!#REF!,\"=\"&M$2)","v":{"$error":"#REF!"}},{"$f":"COUNTIFS(隐患记录表2022!#REF!,\"=\"&O$2,隐患记录表2022!$C:$C,\"=\"&$B7)","v":{"$error":"#REF!"}},{"$f":"COUNTIFS(隐患记录表2022!$J:$J,\"=√\",隐患记录表2022!$C:$C,\"=\"&$B7,隐患记录表2022!#REF!,\"=\"&O$2)","v":{"$error":"#REF!"}},{"$f":"COUNTIFS(隐患记录表2022!#REF!,\"=\"&Q$2,隐患记录表2022!$C:$C,\"=\"&$B7)","v":{"$error":"#REF!"}},{"$f":"COUNTIFS(隐患记录表2022!$J:$J,\"=√\",隐患记录表2022!$C:$C,\"=\"&$B7,隐患记录表2022!#REF!,\"=\"&Q$2)","v":{"$error":"#REF!"}},{"$f":"COUNTIFS(隐患记录表2022!#REF!,\"=\"&S$2,隐患记录表2022!$C:$C,\"=\"&$B7)","v":{"$error":"#REF!"}},{"$f":"COUNTIFS(隐患记录表2022!$J:$J,\"=√\",隐患记录表2022!$C:$C,\"=\"&$B7,隐患记录表2022!#REF!,\"=\"&S$2)","v":{"$error":"#REF!"}},{"$f":"COUNTIFS(隐患记录表2022!#REF!,\"=\"&U$2,隐患记录表2022!$C:$C,\"=\"&$B7)","v":{"$error":"#REF!"}},{"$f":"COUNTIFS(隐患记录表2022!$J:$J,\"=√\",隐患记录表2022!$C:$C,\"=\"&$B7,隐患记录表2022!#REF!,\"=\"&U$2)","v":{"$error":"#REF!"}},{"$f":"COUNTIFS(隐患记录表2022!#REF!,\"=\"&W$2,隐患记录表2022!$C:$C,\"=\"&$B7)","v":{"$error":"#REF!"}},{"$f":"COUNTIFS(隐患记录表2022!$J:$J,\"=√\",隐患记录表2022!$C:$C,\"=\"&$B7,隐患记录表2022!#REF!,\"=\"&W$2)","v":{"$error":"#REF!"}},{"$f":"COUNTIFS(隐患记录表2022!#REF!,\"=\"&Y$2,隐患记录表2022!$C:$C,\"=\"&$B7)","v":{"$error":"#REF!"}},{"$f":"COUNTIFS(隐患记录表2022!$J:$J,\"=√\",隐患记录表2022!$C:$C,\"=\"&$B7,隐患记录表2022!#REF!,\"=\"&Y$2)","v":{"$error":"#REF!"}},{"$f":"COUNTIFS(隐患记录表2022!#REF!,\"=\"&AA$2,隐患记录表2022!$C:$C,\"=\"&$B7)","v":{"$error":"#REF!"}},{"$f":"COUNTIFS(隐患记录表2022!$J:$J,\"=√\",隐患记录表2022!$C:$C,\"=\"&$B7,隐患记录表2022!#REF!,\"=\"&AA$2)","v":{"$error":"#REF!"}},{"$f":"COUNTIFS(隐患记录表2022!#REF!,\"=\"&AC$2,隐患记录表2022!$C:$C,\"=\"&$B7)","v":{"$error":"#REF!"}},{"$f":"COUNTIFS(隐患记录表2022!$J:$J,\"=√\",隐患记录表2022!$C:$C,\"=\"&$B7,隐患记录表2022!#REF!,\"=\"&AC$2)","v":{"$error":"#REF!"}},{"$f":"COUNTIFS(隐患记录表2022!#REF!,\"=\"&AE$2,隐患记录表2022!$C:$C,\"=\"&$B7)","v":{"$error":"#REF!"}},{"$f":"COUNTIFS(隐患记录表2022!$J:$J,\"=√\",隐患记录表2022!$C:$C,\"=\"&$B7,隐患记录表2022!#REF!,\"=\"&AE$2)","v":{"$error":"#REF!"}},{"$f":"COUNTIFS(隐患记录表2022!#REF!,\"=\"&AG$2,隐患记录表2022!$C:$C,\"=\"&$B7)","v":{"$error":"#REF!"}},{"$f":"COUNTIFS(隐患记录表2022!$J:$J,\"=√\",隐患记录表2022!$C:$C,\"=\"&$B7,隐患记录表2022!#REF!,\"=\"&AG$2)","v":{"$error":"#REF!"}},{"$error":"#REF!"},{"$error":"#REF!"},{"v":100,"d":"100.00"}]
[null,"5月",{"$f":"COUNTIFS(隐患记录表2022!#REF!,\"=\"&C$2,隐患记录表2022!$C:$C,\"=\"&$B8)","v":{"$error":"#REF!"}},{"$f":"COUNTIFS(隐患记录表2022!$J:$J,\"=√\",隐患记录表2022!$C:$C,\"=\"&$B8,隐患记录表2022!#REF!,\"=\"&C$2)","v":{"$error":"#REF!"}},{"$f":"COUNTIFS(隐患记录表2022!#REF!,\"=\"&E$2,隐患记录表2022!$C:$C,\"=\"&$B8)","v":{"$error":"#REF!"}},{"$f":"COUNTIFS(隐患记录表2022!$J:$J,\"=√\",隐患记录表2022!$C:$C,\"=\"&$B8,隐患记录表2022!#REF!,\"=\"&E$2)","v":{"$error":"#REF!"}},{"$f":"COUNTIFS(隐患记录表2022!#REF!,\"=\"&G$2,隐患记录表2022!$C:$C,\"=\"&$B8)","v":{"$error":"#REF!"}},{"$f":"COUNTIFS(隐患记录表2022!$J:$J,\"=√\",隐患记录表2022!$C:$C,\"=\"&$B8,隐患记录表2022!#REF!,\"=\"&G$2)","v":{"$error":"#REF!"}},{"$f":"COUNTIFS(隐患记录表2022!#REF!,\"=\"&I$2,隐患记录表2022!$C:$C,\"=\"&$B8)","v":{"$error":"#REF!"}},{"$f":"COUNTIFS(隐患记录表2022!$J:$J,\"=√\",隐患记录表2022!$C:$C,\"=\"&$B8,隐患记录表2022!#REF!,\"=\"&I$2)","v":{"$error":"#REF!"}},{"$f":"COUNTIFS(隐患记录表2022!#REF!,\"=\"&K$2,隐患记录表2022!$C:$C,\"=\"&$B8)","v":{"$error":"#REF!"}},{"$f":"COUNTIFS(隐患记录表2022!$J:$J,\"=√\",隐患记录表2022!$C:$C,\"=\"&$B8,隐患记录表2022!#REF!,\"=\"&K$2)","v":{"$error":"#REF!"}},{"$f":"COUNTIFS(隐患记录表2022!#REF!,\"=\"&M$2,隐患记录表2022!$C:$C,\"=\"&$B8)","v":{"$error":"#REF!"}},{"$f":"COUNTIFS(隐患记录表2022!$J:$J,\"=√\",隐患记录表2022!$C:$C,\"=\"&$B8,隐患记录表2022!#REF!,\"=\"&M$2)","v":{"$error":"#REF!"}},{"$f":"COUNTIFS(隐患记录表2022!#REF!,\"=\"&O$2,隐患记录表2022!$C:$C,\"=\"&$B8)","v":{"$error":"#REF!"}},{"$f":"COUNTIFS(隐患记录表2022!$J:$J,\"=√\",隐患记录表2022!$C:$C,\"=\"&$B8,隐患记录表2022!#REF!,\"=\"&O$2)","v":{"$error":"#REF!"}},{"$f":"COUNTIFS(隐患记录表2022!#REF!,\"=\"&Q$2,隐患记录表2022!$C:$C,\"=\"&$B8)","v":{"$error":"#REF!"}},{"$f":"COUNTIFS(隐患记录表2022!$J:$J,\"=√\",隐患记录表2022!$C:$C,\"=\"&$B8,隐患记录表2022!#REF!,\"=\"&Q$2)","v":{"$error":"#REF!"}},{"$f":"COUNTIFS(隐患记录表2022!#REF!,\"=\"&S$2,隐患记录表2022!$C:$C,\"=\"&$B8)","v":{"$error":"#REF!"}},{"$f":"COUNTIFS(隐患记录表2022!$J:$J,\"=√\",隐患记录表2022!$C:$C,\"=\"&$B8,隐患记录表2022!#REF!,\"=\"&S$2)","v":{"$error":"#REF!"}},{"$f":"COUNTIFS(隐患记录表2022!#REF!,\"=\"&U$2,隐患记录表2022!$C:$C,\"=\"&$B8)","v":{"$error":"#REF!"}},{"$f":"COUNTIFS(隐患记录表2022!$J:$J,\"=√\",隐患记录表2022!$C:$C,\"=\"&$B8,隐患记录表2022!#REF!,\"=\"&U$2)","v":{"$error":"#REF!"}},{"$f":"COUNTIFS(隐患记录表2022!#REF!,\"=\"&W$2,隐患记录表2022!$C:$C,\"=\"&$B8)","v":{"$error":"#REF!"}},{"$f":"COUNTIFS(隐患记录表2022!$J:$J,\"=√\",隐患记录表2022!$C:$C,\"=\"&$B8,隐患记录表2022!#REF!,\"=\"&W$2)","v":{"$error":"#REF!"}},{"$f":"COUNTIFS(隐患记录表2022!#REF!,\"=\"&Y$2,隐患记录表2022!$C:$C,\"=\"&$B8)","v":{"$error":"#REF!"}},{"$f":"COUNTIFS(隐患记录表2022!$J:$J,\"=√\",隐患记录表2022!$C:$C,\"=\"&$B8,隐患记录表2022!#REF!,\"=\"&Y$2)","v":{"$error":"#REF!"}},{"$f":"COUNTIFS(隐患记录表2022!#REF!,\"=\"&AA$2,隐患记录表2022!$C:$C,\"=\"&$B8)","v":{"$error":"#REF!"}},{"$f":"COUNTIFS(隐患记录表2022!$J:$J,\"=√\",隐患记录表2022!$C:$C,\"=\"&$B8,隐患记录表2022!#REF!,\"=\"&AA$2)","v":{"$error":"#REF!"}},{"$f":"COUNTIFS(隐患记录表2022!#REF!,\"=\"&AC$2,隐患记录表2022!$C:$C,\"=\"&$B8)","v":{"$error":"#REF!"}},{"$f":"COUNTIFS(隐患记录表2022!$J:$J,\"=√\",隐患记录表2022!$C:$C,\"=\"&$B8,隐患记录表2022!#REF!,\"=\"&AC$2)","v":{"$error":"#REF!"}},{"$f":"COUNTIFS(隐患记录表2022!#REF!,\"=\"&AE$2,隐患记录表2022!$C:$C,\"=\"&$B8)","v":{"$error":"#REF!"}},{"$f":"COUNTIFS(隐患记录表2022!$J:$J,\"=√\",隐患记录表2022!$C:$C,\"=\"&$B8,隐患记录表2022!#REF!,\"=\"&AE$2)","v":{"$error":"#REF!"}},{"$f":"COUNTIFS(隐患记录表2022!#REF!,\"=\"&AG$2,隐患记录表2022!$C:$C,\"=\"&$B8)","v":{"$error":"#REF!"}},{"$f":"COUNTIFS(隐患记录表2022!$J:$J,\"=√\",隐患记录表2022!$C:$C,\"=\"&$B8,隐患记录表2022!#REF!,\"=\"&AG$2)","v":{"$error":"#REF!"}},{"$error":"#REF!"},{"$error":"#REF!"},{"v":100,"d":"100.00"}]
[null,"6月",{"$f":"COUNTIFS(隐患记录表2022!#REF!,\"=\"&C$2,隐患记录表2022!$C:$C,\"=\"&$B9)","v":{"$error":"#REF!"}},{"$f":"COUNTIFS(隐患记录表2022!$J:$J,\"=√\",隐患记录表2022!$C:$C,\"=\"&$B9,隐患记录表2022!#REF!,\"=\"&C$2)","v":{"$error":"#REF!"}},{"$f":"COUNTIFS(隐患记录表2022!#REF!,\"=\"&E$2,隐患记录表2022!$C:$C,\"=\"&$B9)","v":{"$error":"#REF!"}},{"$f":"COUNTIFS(隐患记录表2022!$J:$J,\"=√\",隐患记录表2022!$C:$C,\"=\"&$B9,隐患记录表2022!#REF!,\"=\"&E$2)","v":{"$error":"#REF!"}},{"$f":"COUNTIFS(隐患记录表2022!#REF!,\"=\"&G$2,隐患记录表2022!$C:$C,\"=\"&$B9)","v":{"$error":"#REF!"}},{"$f":"COUNTIFS(隐患记录表2022!$J:$J,\"=√\",隐患记录表2022!$C:$C,\"=\"&$B9,隐患记录表2022!#REF!,\"=\"&G$2)","v":{"$error":"#REF!"}},{"$f":"COUNTIFS(隐患记录表2022!#REF!,\"=\"&I$2,隐患记录表2022!$C:$C,\"=\"&$B9)","v":{"$error":"#REF!"}},{"$f":"COUNTIFS(隐患记录表2022!$J:$J,\"=√\",隐患记录表2022!$C:$C,\"=\"&$B9,隐患记录表2022!#REF!,\"=\"&I$2)","v":{"$error":"#REF!"}},{"$f":"COUNTIFS(隐患记录表2022!#REF!,\"=\"&K$2,隐患记录表2022!$C:$C,\"=\"&$B9)","v":{"$error":"#REF!"}},{"$f":"COUNTIFS(隐患记录表2022!$J:$J,\"=√\",隐患记录表2022!$C:$C,\"=\"&$B9,隐患记录表2022!#REF!,\"=\"&K$2)","v":{"$error":"#REF!"}},{"$f":"COUNTIFS(隐患记录表2022!#REF!,\"=\"&M$2,隐患记录表2022!$C:$C,\"=\"&$B9)","v":{"$error":"#REF!"}},{"$f":"COUNTIFS(隐患记录表2022!$J:$J,\"=√\",隐患记录表2022!$C:$C,\"=\"&$B9,隐患记录表2022!#REF!,\"=\"&M$2)","v":{"$error":"#REF!"}},{"$f":"COUNTIFS(隐患记录表2022!#REF!,\"=\"&O$2,隐患记录表2022!$C:$C,\"=\"&$B9)","v":{"$error":"#REF!"}},{"$f":"COUNTIFS(隐患记录表2022!$J:$J,\"=√\",隐患记录表2022!$C:$C,\"=\"&$B9,隐患记录表2022!#REF!,\"=\"&O$2)","v":{"$error":"#REF!"}},{"$f":"COUNTIFS(隐患记录表2022!#REF!,\"=\"&Q$2,隐患记录表2022!$C:$C,\"=\"&$B9)","v":{"$error":"#REF!"}},{"$f":"COUNTIFS(隐患记录表2022!$J:$J,\"=√\",隐患记录表2022!$C:$C,\"=\"&$B9,隐患记录表2022!#REF!,\"=\"&Q$2)","v":{"$error":"#REF!"}},{"$f":"COUNTIFS(隐患记录表2022!#REF!,\"=\"&S$2,隐患记录表2022!$C:$C,\"=\"&$B9)","v":{"$error":"#REF!"}},{"$f":"COUNTIFS(隐患记录表2022!$J:$J,\"=√\",隐患记录表2022!$C:$C,\"=\"&$B9,隐患记录表2022!#REF!,\"=\"&S$2)","v":{"$error":"#REF!"}},{"$f":"COUNTIFS(隐患记录表2022!#REF!,\"=\"&U$2,隐患记录表2022!$C:$C,\"=\"&$B9)","v":{"$error":"#REF!"}},{"$f":"COUNTIFS(隐患记录表2022!$J:$J,\"=√\",隐患记录表2022!$C:$C,\"=\"&$B9,隐患记录表2022!#REF!,\"=\"&U$2)","v":{"$error":"#REF!"}},{"$f":"COUNTIFS(隐患记录表2022!#REF!,\"=\"&W$2,隐患记录表2022!$C:$C,\"=\"&$B9)","v":{"$error":"#REF!"}},{"$f":"COUNTIFS(隐患记录表2022!$J:$J,\"=√\",隐患记录表2022!$C:$C,\"=\"&$B9,隐患记录表2022!#REF!,\"=\"&W$2)","v":{"$error":"#REF!"}},{"$f":"COUNTIFS(隐患记录表2022!#REF!,\"=\"&Y$2,隐患记录表2022!$C:$C,\"=\"&$B9)","v":{"$error":"#REF!"}},{"$f":"COUNTIFS(隐患记录表2022!$J:$J,\"=√\",隐患记录表2022!$C:$C,\"=\"&$B9,隐患记录表2022!#REF!,\"=\"&Y$2)","v":{"$error":"#REF!"}},{"$f":"COUNTIFS(隐患记录表2022!#REF!,\"=\"&AA$2,隐患记录表2022!$C:$C,\"=\"&$B9)","v":{"$error":"#REF!"}},{"$f":"COUNTIFS(隐患记录表2022!$J:$J,\"=√\",隐患记录表2022!$C:$C,\"=\"&$B9,隐患记录表2022!#REF!,\"=\"&AA$2)","v":{"$error":"#REF!"}},{"$f":"COUNTIFS(隐患记录表2022!#REF!,\"=\"&AC$2,隐患记录表2022!$C:$C,\"=\"&$B9)","v":{"$error":"#REF!"}},{"$f":"COUNTIFS(隐患记录表2022!$J:$J,\"=√\",隐患记录表2022!$C:$C,\"=\"&$B9,隐患记录表2022!#REF!,\"=\"&AC$2)","v":{"$error":"#REF!"}},{"$f":"COUNTIFS(隐患记录表2022!#REF!,\"=\"&AE$2,隐患记录表2022!$C:$C,\"=\"&$B9)","v":{"$error":"#REF!"}},{"$f":"COUNTIFS(隐患记录表2022!$J:$J,\"=√\",隐患记录表2022!$C:$C,\"=\"&$B9,隐患记录表2022!#REF!,\"=\"&AE$2)","v":{"$error":"#REF!"}},{"$f":"COUNTIFS(隐患记录表2022!#REF!,\"=\"&AG$2,隐患记录表2022!$C:$C,\"=\"&$B9)","v":{"$error":"#REF!"}},{"$f":"COUNTIFS(隐患记录表2022!$J:$J,\"=√\",隐患记录表2022!$C:$C,\"=\"&$B9,隐患记录表2022!#REF!,\"=\"&AG$2)","v":{"$error":"#REF!"}},{"$error":"#REF!"},{"$error":"#REF!"},{"v":100,"d":"100.00"}]
[null,"7月",{"$f":"COUNTIFS(隐患记录表2022!#REF!,\"=\"&C$2,隐患记录表2022!$C:$C,\"=\"&$B10)","v":{"$error":"#REF!"}},{"$f":"COUNTIFS(隐患记录表2022!$J:$J,\"=√\",隐患记录表2022!$C:$C,\"=\"&$B10,隐患记录表2022!#REF!,\"=\"&C$2)","v":{"$error":"#REF!"}},{"$f":"COUNTIFS(隐患记录表2022!#REF!,\"=\"&E$2,隐患记录表2022!$C:$C,\"=\"&$B10)","v":{"$error":"#REF!"}},{"$f":"COUNTIFS(隐患记录表2022!$J:$J,\"=√\",隐患记录表2022!$C:$C,\"=\"&$B10,隐患记录表2022!#REF!,\"=\"&E$2)","v":{"$error":"#REF!"}},{"$f":"COUNTIFS(隐患记录表2022!#REF!,\"=\"&G$2,隐患记录表2022!$C:$C,\"=\"&$B10)","v":{"$error":"#REF!"}},{"$f":"COUNTIFS(隐患记录表2022!$J:$J,\"=√\",隐患记录表2022!$C:$C,\"=\"&$B10,隐患记录表2022!#REF!,\"=\"&G$2)","v":{"$error":"#REF!"}},{"$f":"COUNTIFS(隐患记录表2022!#REF!,\"=\"&I$2,隐患记录表2022!$C:$C,\"=\"&$B10)","v":{"$error":"#REF!"}},{"$f":"COUNTIFS(隐患记录表2022!$J:$J,\"=√\",隐患记录表2022!$C:$C,\"=\"&$B10,隐患记录表2022!#REF!,\"=\"&I$2)","v":{"$error":"#REF!"}},{"$f":"COUNTIFS(隐患记录表2022!#REF!,\"=\"&K$2,隐患记录表2022!$C:$C,\"=\"&$B10)","v":{"$error":"#REF!"}},{"$f":"COUNTIFS(隐患记录表2022!$J:$J,\"=√\",隐患记录表2022!$C:$C,\"=\"&$B10,隐患记录表2022!#REF!,\"=\"&K$2)","v":{"$error":"#REF!"}},{"$f":"COUNTIFS(隐患记录表2022!#REF!,\"=\"&M$2,隐患记录表2022!$C:$C,\"=\"&$B10)","v":{"$error":"#REF!"}},{"$f":"COUNTIFS(隐患记录表2022!$J:$J,\"=√\",隐患记录表2022!$C:$C,\"=\"&$B10,隐患记录表2022!#REF!,\"=\"&M$2)","v":{"$error":"#REF!"}},{"$f":"COUNTIFS(隐患记录表2022!#REF!,\"=\"&O$2,隐患记录表2022!$C:$C,\"=\"&$B10)","v":{"$error":"#REF!"}},{"$f":"COUNTIFS(隐患记录表2022!$J:$J,\"=√\",隐患记录表2022!$C:$C,\"=\"&$B10,隐患记录表2022!#REF!,\"=\"&O$2)","v":{"$error":"#REF!"}},{"$f":"COUNTIFS(隐患记录表2022!#REF!,\"=\"&Q$2,隐患记录表2022!$C:$C,\"=\"&$B10)","v":{"$error":"#REF!"}},{"$f":"COUNTIFS(隐患记录表2022!$J:$J,\"=√\",隐患记录表2022!$C:$C,\"=\"&$B10,隐患记录表2022!#REF!,\"=\"&Q$2)","v":{"$error":"#REF!"}},{"$f":"COUNTIFS(隐患记录表2022!#REF!,\"=\"&S$2,隐患记录表2022!$C:$C,\"=\"&$B10)","v":{"$error":"#REF!"}},{"$f":"COUNTIFS(隐患记录表2022!$J:$J,\"=√\",隐患记录表2022!$C:$C,\"=\"&$B10,隐患记录表2022!#REF!,\"=\"&S$2)","v":{"$error":"#REF!"}},{"$f":"COUNTIFS(隐患记录表2022!#REF!,\"=\"&U$2,隐患记录表2022!$C:$C,\"=\"&$B10)","v":{"$error":"#REF!"}},{"$f":"COUNTIFS(隐患记录表2022!$J:$J,\"=√\",隐患记录表2022!$C:$C,\"=\"&$B10,隐患记录表2022!#REF!,\"=\"&U$2)","v":{"$error":"#REF!"}},{"$f":"COUNTIFS(隐患记录表2022!#REF!,\"=\"&W$2,隐患记录表2022!$C:$C,\"=\"&$B10)","v":{"$error":"#REF!"}},{"$f":"COUNTIFS(隐患记录表2022!$J:$J,\"=√\",隐患记录表2022!$C:$C,\"=\"&$B10,隐患记录表2022!#REF!,\"=\"&W$2)","v":{"$error":"#REF!"}},{"$f":"COUNTIFS(隐患记录表2022!#REF!,\"=\"&Y$2,隐患记录表2022!$C:$C,\"=\"&$B10)","v":{"$error":"#REF!"}},{"$f":"COUNTIFS(隐患记录表2022!$J:$J,\"=√\",隐患记录表2022!$C:$C,\"=\"&$B10,隐患记录表2022!#REF!,\"=\"&Y$2)","v":{"$error":"#REF!"}},{"$f":"COUNTIFS(隐患记录表2022!#REF!,\"=\"&AA$2,隐患记录表2022!$C:$C,\"=\"&$B10)","v":{"$error":"#REF!"}},{"$f":"COUNTIFS(隐患记录表2022!$J:$J,\"=√\",隐患记录表2022!$C:$C,\"=\"&$B10,隐患记录表2022!#REF!,\"=\"&AA$2)","v":{"$error":"#REF!"}},{"$f":"COUNTIFS(隐患记录表2022!#REF!,\"=\"&AC$2,隐患记录表2022!$C:$C,\"=\"&$B10)","v":{"$error":"#REF!"}},{"$f":"COUNTIFS(隐患记录表2022!$J:$J,\"=√\",隐患记录表2022!$C:$C,\"=\"&$B10,隐患记录表2022!#REF!,\"=\"&AC$2)","v":{"$error":"#REF!"}},{"$f":"COUNTIFS(隐患记录表2022!#REF!,\"=\"&AE$2,隐患记录表2022!$C:$C,\"=\"&$B10)","v":{"$error":"#REF!"}},{"$f":"COUNTIFS(隐患记录表2022!$J:$J,\"=√\",隐患记录表2022!$C:$C,\"=\"&$B10,隐患记录表2022!#REF!,\"=\"&AE$2)","v":{"$error":"#REF!"}},{"$f":"COUNTIFS(隐患记录表2022!#REF!,\"=\"&AG$2,隐患记录表2022!$C:$C,\"=\"&$B10)","v":{"$error":"#REF!"}},{"$f":"COUNTIFS(隐患记录表2022!$J:$J,\"=√\",隐患记录表2022!$C:$C,\"=\"&$B10,隐患记录表2022!#REF!,\"=\"&AG$2)","v":{"$error":"#REF!"}},{"$error":"#REF!"},{"$error":"#REF!"},{"v":100,"d":"100.00"}]
[null,"8月",{"$f":"COUNTIFS(隐患记录表2022!#REF!,\"=\"&C$2,隐患记录表2022!$C:$C,\"=\"&$B11)","v":{"$error":"#REF!"}},{"$f":"COUNTIFS(隐患记录表2022!$J:$J,\"=√\",隐患记录表2022!$C:$C,\"=\"&$B11,隐患记录表2022!#REF!,\"=\"&C$2)","v":{"$error":"#REF!"}},{"$f":"COUNTIFS(隐患记录表2022!#REF!,\"=\"&E$2,隐患记录表2022!$C:$C,\"=\"&$B11)","v":{"$error":"#REF!"}},{"$f":"COUNTIFS(隐患记录表2022!$J:$J,\"=√\",隐患记录表2022!$C:$C,\"=\"&$B11,隐患记录表2022!#REF!,\"=\"&E$2)","v":{"$error":"#REF!"}},{"$f":"COUNTIFS(隐患记录表2022!#REF!,\"=\"&G$2,隐患记录表2022!$C:$C,\"=\"&$B11)","v":{"$error":"#REF!"}},{"$f":"COUNTIFS(隐患记录表2022!$J:$J,\"=√\",隐患记录表2022!$C:$C,\"=\"&$B11,隐患记录表2022!#REF!,\"=\"&G$2)","v":{"$error":"#REF!"}},{"$f":"COUNTIFS(隐患记录表2022!#REF!,\"=\"&I$2,隐患记录表2022!$C:$C,\"=\"&$B11)","v":{"$error":"#REF!"}},{"$f":"COUNTIFS(隐患记录表2022!$J:$J,\"=√\",隐患记录表2022!$C:$C,\"=\"&$B11,隐患记录表2022!#REF!,\"=\"&I$2)","v":{"$error":"#REF!"}},{"$f":"COUNTIFS(隐患记录表2022!#REF!,\"=\"&K$2,隐患记录表2022!$C:$C,\"=\"&$B11)","v":{"$error":"#REF!"}},{"$f":"COUNTIFS(隐患记录表2022!$J:$J,\"=√\",隐患记录表2022!$C:$C,\"=\"&$B11,隐患记录表2022!#REF!,\"=\"&K$2)","v":{"$error":"#REF!"}},{"$f":"COUNTIFS(隐患记录表2022!#REF!,\"=\"&M$2,隐患记录表2022!$C:$C,\"=\"&$B11)","v":{"$error":"#REF!"}},{"$f":"COUNTIFS(隐患记录表2022!$J:$J,\"=√\",隐患记录表2022!$C:$C,\"=\"&$B11,隐患记录表2022!#REF!,\"=\"&M$2)","v":{"$error":"#REF!"}},{"$f":"COUNTIFS(隐患记录表2022!#REF!,\"=\"&O$2,隐患记录表2022!$C:$C,\"=\"&$B11)","v":{"$error":"#REF!"}},{"$f":"COUNTIFS(隐患记录表2022!$J:$J,\"=√\",隐患记录表2022!$C:$C,\"=\"&$B11,隐患记录表2022!#REF!,\"=\"&O$2)","v":{"$error":"#REF!"}},{"$f":"COUNTIFS(隐患记录表2022!#REF!,\"=\"&Q$2,隐患记录表2022!$C:$C,\"=\"&$B11)","v":{"$error":"#REF!"}},{"$f":"COUNTIFS(隐患记录表2022!$J:$J,\"=√\",隐患记录表2022!$C:$C,\"=\"&$B11,隐患记录表2022!#REF!,\"=\"&Q$2)","v":{"$error":"#REF!"}},{"$f":"COUNTIFS(隐患记录表2022!#REF!,\"=\"&S$2,隐患记录表2022!$C:$C,\"=\"&$B11)","v":{"$error":"#REF!"}},{"$f":"COUNTIFS(隐患记录表2022!$J:$J,\"=√\",隐患记录表2022!$C:$C,\"=\"&$B11,隐患记录表2022!#REF!,\"=\"&S$2)","v":{"$error":"#REF!"}},{"$f":"COUNTIFS(隐患记录表2022!#REF!,\"=\"&U$2,隐患记录表2022!$C:$C,\"=\"&$B11)","v":{"$error":"#REF!"}},{"$f":"COUNTIFS(隐患记录表2022!$J:$J,\"=√\",隐患记录表2022!$C:$C,\"=\"&$B11,隐患记录表2022!#REF!,\"=\"&U$2)","v":{"$error":"#REF!"}},{"$f":"COUNTIFS(隐患记录表2022!#REF!,\"=\"&W$2,隐患记录表2022!$C:$C,\"=\"&$B11)","v":{"$error":"#REF!"}},{"$f":"COUNTIFS(隐患记录表2022!$J:$J,\"=√\",隐患记录表2022!$C:$C,\"=\"&$B11,隐患记录表2022!#REF!,\"=\"&W$2)","v":{"$error":"#REF!"}},{"$f":"COUNTIFS(隐患记录表2022!#REF!,\"=\"&Y$2,隐患记录表2022!$C:$C,\"=\"&$B11)","v":{"$error":"#REF!"}},{"$f":"COUNTIFS(隐患记录表2022!$J:$J,\"=√\",隐患记录表2022!$C:$C,\"=\"&$B11,隐患记录表2022!#REF!,\"=\"&Y$2)","v":{"$error":"#REF!"}},{"$f":"COUNTIFS(隐患记录表2022!#REF!,\"=\"&AA$2,隐患记录表2022!$C:$C,\"=\"&$B11)","v":{"$error":"#REF!"}},{"$f":"COUNTIFS(隐患记录表2022!$J:$J,\"=√\",隐患记录表2022!$C:$C,\"=\"&$B11,隐患记录表2022!#REF!,\"=\"&AA$2)","v":{"$error":"#REF!"}},{"$f":"COUNTIFS(隐患记录表2022!#REF!,\"=\"&AC$2,隐患记录表2022!$C:$C,\"=\"&$B11)","v":{"$error":"#REF!"}},{"$f":"COUNTIFS(隐患记录表2022!$J:$J,\"=√\",隐患记录表2022!$C:$C,\"=\"&$B11,隐患记录表2022!#REF!,\"=\"&AC$2)","v":{"$error":"#REF!"}},{"$f":"COUNTIFS(隐患记录表2022!#REF!,\"=\"&AE$2,隐患记录表2022!$C:$C,\"=\"&$B11)","v":{"$error":"#REF!"}},{"$f":"COUNTIFS(隐患记录表2022!$J:$J,\"=√\",隐患记录表2022!$C:$C,\"=\"&$B11,隐患记录表2022!#REF!,\"=\"&AE$2)","v":{"$error":"#REF!"}},{"$f":"COUNTIFS(隐患记录表2022!#REF!,\"=\"&AG$2,隐患记录表2022!$C:$C,\"=\"&$B11)","v":{"$error":"#REF!"}},{"$f":"COUNTIFS(隐患记录表2022!$J:$J,\"=√\",隐患记录表2022!$C:$C,\"=\"&$B11,隐患记录表2022!#REF!,\"=\"&AG$2)","v":{"$error":"#REF!"}},{"$error":"#REF!"},{"$error":"#REF!"},{"v":100,"d":"100.00"}]
[null,"9月",{"$f":"COUNTIFS(隐患记录表2022!#REF!,\"=\"&C$2,隐患记录表2022!$C:$C,\"=\"&$B12)","v":{"$error":"#REF!"}},{"$f":"COUNTIFS(隐患记录表2022!$J:$J,\"=√\",隐患记录表2022!$C:$C,\"=\"&$B12,隐患记录表2022!#REF!,\"=\"&C$2)","v":{"$error":"#REF!"}},{"$f":"COUNTIFS(隐患记录表2022!#REF!,\"=\"&E$2,隐患记录表2022!$C:$C,\"=\"&$B12)","v":{"$error":"#REF!"}},{"$f":"COUNTIFS(隐患记录表2022!$J:$J,\"=√\",隐患记录表2022!$C:$C,\"=\"&$B12,隐患记录表2022!#REF!,\"=\"&E$2)","v":{"$error":"#REF!"}},{"$f":"COUNTIFS(隐患记录表2022!#REF!,\"=\"&G$2,隐患记录表2022!$C:$C,\"=\"&$B12)","v":{"$error":"#REF!"}},{"$f":"COUNTIFS(隐患记录表2022!$J:$J,\"=√\",隐患记录表2022!$C:$C,\"=\"&$B12,隐患记录表2022!#REF!,\"=\"&G$2)","v":{"$error":"#REF!"}},{"$f":"COUNTIFS(隐患记录表2022!#REF!,\"=\"&I$2,隐患记录表2022!$C:$C,\"=\"&$B12)","v":{"$error":"#REF!"}},{"$f":"COUNTIFS(隐患记录表2022!$J:$J,\"=√\",隐患记录表2022!$C:$C,\"=\"&$B12,隐患记录表2022!#REF!,\"=\"&I$2)","v":{"$error":"#REF!"}},{"$f":"COUNTIFS(隐患记录表2022!#REF!,\"=\"&K$2,隐患记录表2022!$C:$C,\"=\"&$B12)","v":{"$error":"#REF!"}},{"$f":"COUNTIFS(隐患记录表2022!$J:$J,\"=√\",隐患记录表2022!$C:$C,\"=\"&$B12,隐患记录表2022!#REF!,\"=\"&K$2)","v":{"$error":"#REF!"}},{"$f":"COUNTIFS(隐患记录表2022!#REF!,\"=\"&M$2,隐患记录表2022!$C:$C,\"=\"&$B12)","v":{"$error":"#REF!"}},{"$f":"COUNTIFS(隐患记录表2022!$J:$J,\"=√\",隐患记录表2022!$C:$C,\"=\"&$B12,隐患记录表2022!#REF!,\"=\"&M$2)","v":{"$error":"#REF!"}},{"$f":"COUNTIFS(隐患记录表2022!#REF!,\"=\"&O$2,隐患记录表2022!$C:$C,\"=\"&$B12)","v":{"$error":"#REF!"}},{"$f":"COUNTIFS(隐患记录表2022!$J:$J,\"=√\",隐患记录表2022!$C:$C,\"=\"&$B12,隐患记录表2022!#REF!,\"=\"&O$2)","v":{"$error":"#REF!"}},{"$f":"COUNTIFS(隐患记录表2022!#REF!,\"=\"&Q$2,隐患记录表2022!$C:$C,\"=\"&$B12)","v":{"$error":"#REF!"}},{"$f":"COUNTIFS(隐患记录表2022!$J:$J,\"=√\",隐患记录表2022!$C:$C,\"=\"&$B12,隐患记录表2022!#REF!,\"=\"&Q$2)","v":{"$error":"#REF!"}},{"$f":"COUNTIFS(隐患记录表2022!#REF!,\"=\"&S$2,隐患记录表2022!$C:$C,\"=\"&$B12)","v":{"$error":"#REF!"}},{"$f":"COUNTIFS(隐患记录表2022!$J:$J,\"=√\",隐患记录表2022!$C:$C,\"=\"&$B12,隐患记录表2022!#REF!,\"=\"&S$2)","v":{"$error":"#REF!"}},{"$f":"COUNTIFS(隐患记录表2022!#REF!,\"=\"&U$2,隐患记录表2022!$C:$C,\"=\"&$B12)","v":{"$error":"#REF!"}},{"$f":"COUNTIFS(隐患记录表2022!$J:$J,\"=√\",隐患记录表2022!$C:$C,\"=\"&$B12,隐患记录表2022!#REF!,\"=\"&U$2)","v":{"$error":"#REF!"}},{"$f":"COUNTIFS(隐患记录表2022!#REF!,\"=\"&W$2,隐患记录表2022!$C:$C,\"=\"&$B12)","v":{"$error":"#REF!"}},{"$f":"COUNTIFS(隐患记录表2022!$J:$J,\"=√\",隐患记录表2022!$C:$C,\"=\"&$B12,隐患记录表2022!#REF!,\"=\"&W$2)","v":{"$error":"#REF!"}},{"$f":"COUNTIFS(隐患记录表2022!#REF!,\"=\"&Y$2,隐患记录表2022!$C:$C,\"=\"&$B12)","v":{"$error":"#REF!"}},{"$f":"COUNTIFS(隐患记录表2022!$J:$J,\"=√\",隐患记录表2022!$C:$C,\"=\"&$B12,隐患记录表2022!#REF!,\"=\"&Y$2)","v":{"$error":"#REF!"}},{"$f":"COUNTIFS(隐患记录表2022!#REF!,\"=\"&AA$2,隐患记录表2022!$C:$C,\"=\"&$B12)","v":{"$error":"#REF!"}},{"$f":"COUNTIFS(隐患记录表2022!$J:$J,\"=√\",隐患记录表2022!$C:$C,\"=\"&$B12,隐患记录表2022!#REF!,\"=\"&AA$2)","v":{"$error":"#REF!"}},{"$f":"COUNTIFS(隐患记录表2022!#REF!,\"=\"&AC$2,隐患记录表2022!$C:$C,\"=\"&$B12)","v":{"$error":"#REF!"}},{"$f":"COUNTIFS(隐患记录表2022!$J:$J,\"=√\",隐患记录表2022!$C:$C,\"=\"&$B12,隐患记录表2022!#REF!,\"=\"&AC$2)","v":{"$error":"#REF!"}},{"$f":"COUNTIFS(隐患记录表2022!#REF!,\"=\"&AE$2,隐患记录表2022!$C:$C,\"=\"&$B12)","v":{"$error":"#REF!"}},{"$f":"COUNTIFS(隐患记录表2022!$J:$J,\"=√\",隐患记录表2022!$C:$C,\"=\"&$B12,隐患记录表2022!#REF!,\"=\"&AE$2)","v":{"$error":"#REF!"}},{"$f":"COUNTIFS(隐患记录表2022!#REF!,\"=\"&AG$2,隐患记录表2022!$C:$C,\"=\"&$B12)","v":{"$error":"#REF!"}},{"$f":"COUNTIFS(隐患记录表2022!$J:$J,\"=√\",隐患记录表2022!$C:$C,\"=\"&$B12,隐患记录表2022!#REF!,\"=\"&AG$2)","v":{"$error":"#REF!"}},{"$error":"#REF!"},{"$error":"#REF!"},{"v":100,"d":"100.00"}]
[null,"10月",{"$f":"COUNTIFS(隐患记录表2022!#REF!,\"=\"&C$2,隐患记录表2022!$C:$C,\"=\"&$B13)","v":{"$error":"#REF!"}},{"$f":"COUNTIFS(隐患记录表2022!$J:$J,\"=√\",隐患记录表2022!$C:$C,\"=\"&$B13,隐患记录表2022!#REF!,\"=\"&C$2)","v":{"$error":"#REF!"}},{"$f":"COUNTIFS(隐患记录表2022!#REF!,\"=\"&E$2,隐患记录表2022!$C:$C,\"=\"&$B13)","v":{"$error":"#REF!"}},{"$f":"COUNTIFS(隐患记录表2022!$J:$J,\"=√\",隐患记录表2022!$C:$C,\"=\"&$B13,隐患记录表2022!#REF!,\"=\"&E$2)","v":{"$error":"#REF!"}},{"$f":"COUNTIFS(隐患记录表2022!#REF!,\"=\"&G$2,隐患记录表2022!$C:$C,\"=\"&$B13)","v":{"$error":"#REF!"}},{"$f":"COUNTIFS(隐患记录表2022!$J:$J,\"=√\",隐患记录表2022!$C:$C,\"=\"&$B13,隐患记录表2022!#REF!,\"=\"&G$2)","v":{"$error":"#REF!"}},{"$f":"COUNTIFS(隐患记录表2022!#REF!,\"=\"&I$2,隐患记录表2022!$C:$C,\"=\"&$B13)","v":{"$error":"#REF!"}},{"$f":"COUNTIFS(隐患记录表2022!$J:$J,\"=√\",隐患记录表2022!$C:$C,\"=\"&$B13,隐患记录表2022!#REF!,\"=\"&I$2)","v":{"$error":"#REF!"}},{"$f":"COUNTIFS(隐患记录表2022!#REF!,\"=\"&K$2,隐患记录表2022!$C:$C,\"=\"&$B13)","v":{"$error":"#REF!"}},{"$f":"COUNTIFS(隐患记录表2022!$J:$J,\"=√\",隐患记录表2022!$C:$C,\"=\"&$B13,隐患记录表2022!#REF!,\"=\"&K$2)","v":{"$error":"#REF!"}},{"$f":"COUNTIFS(隐患记录表2022!#REF!,\"=\"&M$2,隐患记录表2022!$C:$C,\"=\"&$B13)","v":{"$error":"#REF!"}},{"$f":"COUNTIFS(隐患记录表2022!$J:$J,\"=√\",隐患记录表2022!$C:$C,\"=\"&$B13,隐患记录表2022!#REF!,\"=\"&M$2)","v":{"$error":"#REF!"}},{"$f":"COUNTIFS(隐患记录表2022!#REF!,\"=\"&O$2,隐患记录表2022!$C:$C,\"=\"&$B13)","v":{"$error":"#REF!"}},{"$f":"COUNTIFS(隐患记录表2022!$J:$J,\"=√\",隐患记录表2022!$C:$C,\"=\"&$B13,隐患记录表2022!#REF!,\"=\"&O$2)","v":{"$error":"#REF!"}},{"$f":"COUNTIFS(隐患记录表2022!#REF!,\"=\"&Q$2,隐患记录表2022!$C:$C,\"=\"&$B13)","v":{"$error":"#REF!"}},{"$f":"COUNTIFS(隐患记录表2022!$J:$J,\"=√\",隐患记录表2022!$C:$C,\"=\"&$B13,隐患记录表2022!#REF!,\"=\"&Q$2)","v":{"$error":"#REF!"}},{"$f":"COUNTIFS(隐患记录表2022!#REF!,\"=\"&S$2,隐患记录表2022!$C:$C,\"=\"&$B13)","v":{"$error":"#REF!"}},{"$f":"COUNTIFS(隐患记录表2022!$J:$J,\"=√\",隐患记录表2022!$C:$C,\"=\"&$B13,隐患记录表2022!#REF!,\"=\"&S$2)","v":{"$error":"#REF!"}},{"$f":"COUNTIFS(隐患记录表2022!#REF!,\"=\"&U$2,隐患记录表2022!$C:$C,\"=\"&$B13)","v":{"$error":"#REF!"}},{"$f":"COUNTIFS(隐患记录表2022!$J:$J,\"=√\",隐患记录表2022!$C:$C,\"=\"&$B13,隐患记录表2022!#REF!,\"=\"&U$2)","v":{"$error":"#REF!"}},{"$f":"COUNTIFS(隐患记录表2022!#REF!,\"=\"&W$2,隐患记录表2022!$C:$C,\"=\"&$B13)","v":{"$error":"#REF!"}},{"$f":"COUNTIFS(隐患记录表2022!$J:$J,\"=√\",隐患记录表2022!$C:$C,\"=\"&$B13,隐患记录表2022!#REF!,\"=\"&W$2)","v":{"$error":"#REF!"}},{"$f":"COUNTIFS(隐患记录表2022!#REF!,\"=\"&Y$2,隐患记录表2022!$C:$C,\"=\"&$B13)","v":{"$error":"#REF!"}},{"$f":"COUNTIFS(隐患记录表2022!$J:$J,\"=√\",隐患记录表2022!$C:$C,\"=\"&$B13,隐患记录表2022!#REF!,\"=\"&Y$2)","v":{"$error":"#REF!"}},{"$f":"COUNTIFS(隐患记录表2022!#REF!,\"=\"&AA$2,隐患记录表2022!$C:$C,\"=\"&$B13)","v":{"$error":"#REF!"}},{"$f":"COUNTIFS(隐患记录表2022!$J:$J,\"=√\",隐患记录表2022!$C:$C,\"=\"&$B13,隐患记录表2022!#REF!,\"=\"&AA$2)","v":{"$error":"#REF!"}},{"$f":"COUNTIFS(隐患记录表2022!#REF!,\"=\"&AC$2,隐患记录表2022!$C:$C,\"=\"&$B13)","v":{"$error":"#REF!"}},{"$f":"COUNTIFS(隐患记录表2022!$J:$J,\"=√\",隐患记录表2022!$C:$C,\"=\"&$B13,隐患记录表2022!#REF!,\"=\"&AC$2)","v":{"$error":"#REF!"}},{"$f":"COUNTIFS(隐患记录表2022!#REF!,\"=\"&AE$2,隐患记录表2022!$C:$C,\"=\"&$B13)","v":{"$error":"#REF!"}},{"$f":"COUNTIFS(隐患记录表2022!$J:$J,\"=√\",隐患记录表2022!$C:$C,\"=\"&$B13,隐患记录表2022!#REF!,\"=\"&AE$2)","v":{"$error":"#REF!"}},{"$f":"COUNTIFS(隐患记录表2022!#REF!,\"=\"&AG$2,隐患记录表2022!$C:$C,\"=\"&$B13)","v":{"$error":"#REF!"}},{"$f":"COUNTIFS(隐患记录表2022!$J:$J,\"=√\",隐患记录表2022!$C:$C,\"=\"&$B13,隐患记录表2022!#REF!,\"=\"&AG$2)","v":{"$error":"#REF!"}},{"$error":"#REF!"},{"$error":"#REF!"},{"v":100,"d":"100.00"}]
[null,"11月",{"$f":"COUNTIFS(隐患记录表2022!#REF!,\"=\"&C$2,隐患记录表2022!$C:$C,\"=\"&$B14)","v":{"$error":"#REF!"}},{"$f":"COUNTIFS(隐患记录表2022!$J:$J,\"=√\",隐患记录表2022!$C:$C,\"=\"&$B14,隐患记录表2022!#REF!,\"=\"&C$2)","v":{"$error":"#REF!"}},{"$f":"COUNTIFS(隐患记录表2022!#REF!,\"=\"&E$2,隐患记录表2022!$C:$C,\"=\"&$B14)","v":{"$error":"#REF!"}},{"$f":"COUNTIFS(隐患记录表2022!$J:$J,\"=√\",隐患记录表2022!$C:$C,\"=\"&$B14,隐患记录表2022!#REF!,\"=\"&E$2)","v":{"$error":"#REF!"}},{"$f":"COUNTIFS(隐患记录表2022!#REF!,\"=\"&G$2,隐患记录表2022!$C:$C,\"=\"&$B14)","v":{"$error":"#REF!"}},{"$f":"COUNTIFS(隐患记录表2022!$J:$J,\"=√\",隐患记录表2022!$C:$C,\"=\"&$B14,隐患记录表2022!#REF!,\"=\"&G$2)","v":{"$error":"#REF!"}},{"$f":"COUNTIFS(隐患记录表2022!#REF!,\"=\"&I$2,隐患记录表2022!$C:$C,\"=\"&$B14)","v":{"$error":"#REF!"}},{"$f":"COUNTIFS(隐患记录表2022!$J:$J,\"=√\",隐患记录表2022!$C:$C,\"=\"&$B14,隐患记录表2022!#REF!,\"=\"&I$2)","v":{"$error":"#REF!"}},{"$f":"COUNTIFS(隐患记录表2022!#REF!,\"=\"&K$2,隐患记录表2022!$C:$C,\"=\"&$B14)","v":{"$error":"#REF!"}},{"$f":"COUNTIFS(隐患记录表2022!$J:$J,\"=√\",隐患记录表2022!$C:$C,\"=\"&$B14,隐患记录表2022!#REF!,\"=\"&K$2)","v":{"$error":"#REF!"}},{"$f":"COUNTIFS(隐患记录表2022!#REF!,\"=\"&M$2,隐患记录表2022!$C:$C,\"=\"&$B14)","v":{"$error":"#REF!"}},{"$f":"COUNTIFS(隐患记录表2022!$J:$J,\"=√\",隐患记录表2022!$C:$C,\"=\"&$B14,隐患记录表2022!#REF!,\"=\"&M$2)","v":{"$error":"#REF!"}},{"$f":"COUNTIFS(隐患记录表2022!#REF!,\"=\"&O$2,隐患记录表2022!$C:$C,\"=\"&$B14)","v":{"$error":"#REF!"}},{"$f":"COUNTIFS(隐患记录表2022!$J:$J,\"=√\",隐患记录表2022!$C:$C,\"=\"&$B14,隐患记录表2022!#REF!,\"=\"&O$2)","v":{"$error":"#REF!"}},{"$f":"COUNTIFS(隐患记录表2022!#REF!,\"=\"&Q$2,隐患记录表2022!$C:$C,\"=\"&$B14)","v":{"$error":"#REF!"}},{"$f":"COUNTIFS(隐患记录表2022!$J:$J,\"=√\",隐患记录表2022!$C:$C,\"=\"&$B14,隐患记录表2022!#REF!,\"=\"&Q$2)","v":{"$error":"#REF!"}},{"$f":"COUNTIFS(隐患记录表2022!#REF!,\"=\"&S$2,隐患记录表2022!$C:$C,\"=\"&$B14)","v":{"$error":"#REF!"}},{"$f":"COUNTIFS(隐患记录表2022!$J:$J,\"=√\",隐患记录表2022!$C:$C,\"=\"&$B14,隐患记录表2022!#REF!,\"=\"&S$2)","v":{"$error":"#REF!"}},{"$f":"COUNTIFS(隐患记录表2022!#REF!,\"=\"&U$2,隐患记录表2022!$C:$C,\"=\"&$B14)","v":{"$error":"#REF!"}},{"$f":"COUNTIFS(隐患记录表2022!$J:$J,\"=√\",隐患记录表2022!$C:$C,\"=\"&$B14,隐患记录表2022!#REF!,\"=\"&U$2)","v":{"$error":"#REF!"}},{"$f":"COUNTIFS(隐患记录表2022!#REF!,\"=\"&W$2,隐患记录表2022!$C:$C,\"=\"&$B14)","v":{"$error":"#REF!"}},{"$f":"COUNTIFS(隐患记录表2022!$J:$J,\"=√\",隐患记录表2022!$C:$C,\"=\"&$B14,隐患记录表2022!#REF!,\"=\"&W$2)","v":{"$error":"#REF!"}},{"$f":"COUNTIFS(隐患记录表2022!#REF!,\"=\"&Y$2,隐患记录表2022!$C:$C,\"=\"&$B14)","v":{"$error":"#REF!"}},{"$f":"COUNTIFS(隐患记录表2022!$J:$J,\"=√\",隐患记录表2022!$C:$C,\"=\"&$B14,隐患记录表2022!#REF!,\"=\"&Y$2)","v":{"$error":"#REF!"}},{"$f":"COUNTIFS(隐患记录表2022!#REF!,\"=\"&AA$2,隐患记录表2022!$C:$C,\"=\"&$B14)","v":{"$error":"#REF!"}},{"$f":"COUNTIFS(隐患记录表2022!$J:$J,\"=√\",隐患记录表2022!$C:$C,\"=\"&$B14,隐患记录表2022!#REF!,\"=\"&AA$2)","v":{"$error":"#REF!"}},{"$f":"COUNTIFS(隐患记录表2022!#REF!,\"=\"&AC$2,隐患记录表2022!$C:$C,\"=\"&$B14)","v":{"$error":"#REF!"}},{"$f":"COUNTIFS(隐患记录表2022!$J:$J,\"=√\",隐患记录表2022!$C:$C,\"=\"&$B14,隐患记录表2022!#REF!,\"=\"&AC$2)","v":{"$error":"#REF!"}},{"$f":"COUNTIFS(隐患记录表2022!#REF!,\"=\"&AE$2,隐患记录表2022!$C:$C,\"=\"&$B14)","v":{"$error":"#REF!"}},{"$f":"COUNTIFS(隐患记录表2022!$J:$J,\"=√\",隐患记录表2022!$C:$C,\"=\"&$B14,隐患记录表2022!#REF!,\"=\"&AE$2)","v":{"$error":"#REF!"}},{"$f":"COUNTIFS(隐患记录表2022!#REF!,\"=\"&AG$2,隐患记录表2022!$C:$C,\"=\"&$B14)","v":{"$error":"#REF!"}},{"$f":"COUNTIFS(隐患记录表2022!$J:$J,\"=√\",隐患记录表2022!$C:$C,\"=\"&$B14,隐患记录表2022!#REF!,\"=\"&AG$2)","v":{"$error":"#REF!"}},{"$error":"#REF!"},{"$f":"D14+F14+H14+J14+L14+N14+P14+R14+T14+V14+X14+Z14+AB14+AD14+AF14+AH14","v":{"$error":"#REF!"}},{"v":100,"d":"100.00"}]
[null,"12月",{"$f":"COUNTIFS(隐患记录表2022!#REF!,\"=\"&C$2,隐患记录表2022!$C:$C,\"=\"&$B15)","v":{"$error":"#REF!"}},{"$f":"COUNTIFS(隐患记录表2022!$J:$J,\"=√\",隐患记录表2022!$C:$C,\"=\"&$B15,隐患记录表2022!#REF!,\"=\"&C$2)","v":{"$error":"#REF!"}},{"$f":"COUNTIFS(隐患记录表2022!#REF!,\"=\"&E$2,隐患记录表2022!$C:$C,\"=\"&$B15)","v":{"$error":"#REF!"}},{"$f":"COUNTIFS(隐患记录表2022!$J:$J,\"=√\",隐患记录表2022!$C:$C,\"=\"&$B15,隐患记录表2022!#REF!,\"=\"&E$2)","v":{"$error":"#REF!"}},{"$f":"COUNTIFS(隐患记录表2022!#REF!,\"=\"&G$2,隐患记录表2022!$C:$C,\"=\"&$B15)","v":{"$error":"#REF!"}},{"$f":"COUNTIFS(隐患记录表2022!$J:$J,\"=√\",隐患记录表2022!$C:$C,\"=\"&$B15,隐患记录表2022!#REF!,\"=\"&G$2)","v":{"$error":"#REF!"}},{"$f":"COUNTIFS(隐患记录表2022!#REF!,\"=\"&I$2,隐患记录表2022!$C:$C,\"=\"&$B15)","v":{"$error":"#REF!"}},{"$f":"COUNTIFS(隐患记录表2022!$J:$J,\"=√\",隐患记录表2022!$C:$C,\"=\"&$B15,隐患记录表2022!#REF!,\"=\"&I$2)","v":{"$error":"#REF!"}},{"$f":"COUNTIFS(隐患记录表2022!#REF!,\"=\"&K$2,隐患记录表2022!$C:$C,\"=\"&$B15)","v":{"$error":"#REF!"}},{"$f":"COUNTIFS(隐患记录表2022!$J:$J,\"=√\",隐患记录表2022!$C:$C,\"=\"&$B15,隐患记录表2022!#REF!,\"=\"&K$2)","v":{"$error":"#REF!"}},{"$f":"COUNTIFS(隐患记录表2022!#REF!,\"=\"&M$2,隐患记录表2022!$C:$C,\"=\"&$B15)","v":{"$error":"#REF!"}},{"$f":"COUNTIFS(隐患记录表2022!$J:$J,\"=√\",隐患记录表2022!$C:$C,\"=\"&$B15,隐患记录表2022!#REF!,\"=\"&M$2)","v":{"$error":"#REF!"}},{"$f":"COUNTIFS(隐患记录表2022!#REF!,\"=\"&O$2,隐患记录表2022!$C:$C,\"=\"&$B15)","v":{"$error":"#REF!"}},{"$f":"COUNTIFS(隐患记录表2022!$J:$J,\"=√\",隐患记录表2022!$C:$C,\"=\"&$B15,隐患记录表2022!#REF!,\"=\"&O$2)","v":{"$error":"#REF!"}},{"$f":"COUNTIFS(隐患记录表2022!#REF!,\"=\"&Q$2,隐患记录表2022!$C:$C,\"=\"&$B15)","v":{"$error":"#REF!"}},{"$f":"COUNTIFS(隐患记录表2022!$J:$J,\"=√\",隐患记录表2022!$C:$C,\"=\"&$B15,隐患记录表2022!#REF!,\"=\"&Q$2)","v":{"$error":"#REF!"}},{"$f":"COUNTIFS(隐患记录表2022!#REF!,\"=\"&S$2,隐患记录表2022!$C:$C,\"=\"&$B15)","v":{"$error":"#REF!"}},{"$f":"COUNTIFS(隐患记录表2022!$J:$J,\"=√\",隐患记录表2022!$C:$C,\"=\"&$B15,隐患记录表2022!#REF!,\"=\"&S$2)","v":{"$error":"#REF!"}},{"$f":"COUNTIFS(隐患记录表2022!#REF!,\"=\"&U$2,隐患记录表2022!$C:$C,\"=\"&$B15)","v":{"$error":"#REF!"}},{"$f":"COUNTIFS(隐患记录表2022!$J:$J,\"=√\",隐患记录表2022!$C:$C,\"=\"&$B15,隐患记录表2022!#REF!,\"=\"&U$2)","v":{"$error":"#REF!"}},{"$f":"COUNTIFS(隐患记录表2022!#REF!,\"=\"&W$2,隐患记录表2022!$C:$C,\"=\"&$B15)","v":{"$error":"#REF!"}},{"$f":"COUNTIFS(隐患记录表2022!$J:$J,\"=√\",隐患记录表2022!$C:$C,\"=\"&$B15,隐患记录表2022!#REF!,\"=\"&W$2)","v":{"$error":"#REF!"}},{"$f":"COUNTIFS(隐患记录表2022!#REF!,\"=\"&Y$2,隐患记录表2022!$C:$C,\"=\"&$B15)","v":{"$error":"#REF!"}},{"$f":"COUNTIFS(隐患记录表2022!$J:$J,\"=√\",隐患记录表2022!$C:$C,\"=\"&$B15,隐患记录表2022!#REF!,\"=\"&Y$2)","v":{"$error":"#REF!"}},{"$f":"COUNTIFS(隐患记录表2022!#REF!,\"=\"&AA$2,隐患记录表2022!$C:$C,\"=\"&$B15)","v":{"$error":"#REF!"}},{"$f":"COUNTIFS(隐患记录表2022!$J:$J,\"=√\",隐患记录表2022!$C:$C,\"=\"&$B15,隐患记录表2022!#REF!,\"=\"&AA$2)","v":{"$error":"#REF!"}},{"$f":"COUNTIFS(隐患记录表2022!#REF!,\"=\"&AC$2,隐患记录表2022!$C:$C,\"=\"&$B15)","v":{"$error":"#REF!"}},{"$f":"COUNTIFS(隐患记录表2022!$J:$J,\"=√\",隐患记录表2022!$C:$C,\"=\"&$B15,隐患记录表2022!#REF!,\"=\"&AC$2)","v":{"$error":"#REF!"}},{"$f":"COUNTIFS(隐患记录表2022!#REF!,\"=\"&AE$2,隐患记录表2022!$C:$C,\"=\"&$B15)","v":{"$error":"#REF!"}},{"$f":"COUNTIFS(隐患记录表2022!$J:$J,\"=√\",隐患记录表2022!$C:$C,\"=\"&$B15,隐患记录表2022!#REF!,\"=\"&AE$2)","v":{"$error":"#REF!"}},{"$f":"COUNTIFS(隐患记录表2022!#REF!,\"=\"&AG$2,隐患记录表2022!$C:$C,\"=\"&$B15)","v":{"$error":"#REF!"}},{"$f":"COUNTIFS(隐患记录表2022!$J:$J,\"=√\",隐患记录表2022!$C:$C,\"=\"&$B15,隐患记录表2022!#REF!,\"=\"&AG$2)","v":{"$error":"#REF!"}},{"$error":"#REF!"},{"$error":"#REF!"},{"v":100,"d":"100.00"}]
[null,"隐患",{"$f":"SUM(C4:C15)","v":{"$error":"#REF!"}},{"$f":"COUNTIFS(隐患记录表2022!$J:$J,\"=√\",隐患记录表2022!$C:$C,\"=\"&$B16,隐患记录表2022!#REF!,\"=\"&C$2)","v":{"$error":"#REF!"}},{"$f":"SUM(E4:E15)","v":{"$error":"#REF!"}},{"$f":"COUNTIFS(隐患记录表2022!$J:$J,\"=√\",隐患记录表2022!$C:$C,\"=\"&$B16,隐患记录表2022!#REF!,\"=\"&E$2)","v":{"$error":"#REF!"}},{"$f":"SUM(G4:G15)","v":{"$error":"#REF!"}},{"$f":"COUNTIFS(隐患记录表2022!$J:$J,\"=√\",隐患记录表2022!$C:$C,\"=\"&$B16,隐患记录表2022!#REF!,\"=\"&G$2)","v":{"$error":"#REF!"}},{"$f":"SUM(I4:I15)","v":{"$error":"#REF!"}},{"$f":"COUNTIFS(隐患记录表2022!$J:$J,\"=√\",隐患记录表2022!$C:$C,\"=\"&$B16,隐患记录表2022!#REF!,\"=\"&I$2)","v":{"$error":"#REF!"}},{"$f":"SUM(K4:K15)","v":{"$error":"#REF!"}},{"$f":"COUNTIFS(隐患记录表2022!$J:$J,\"=√\",隐患记录表2022!$C:$C,\"=\"&$B16,隐患记录表2022!#REF!,\"=\"&K$2)","v":{"$error":"#REF!"}},{"$f":"SUM(M4:M15)","v":{"$error":"#REF!"}},{"$f":"COUNTIFS(隐患记录表2022!$J:$J,\"=√\",隐患记录表2022!$C:$C,\"=\"&$B16,隐患记录表2022!#REF!,\"=\"&M$2)","v":{"$error":"#REF!"}},{"$f":"SUM(O4:O15)","v":{"$error":"#REF!"}},{"$f":"COUNTIFS(隐患记录表2022!$J:$J,\"=√\",隐患记录表2022!$C:$C,\"=\"&$B16,隐患记录表2022!#REF!,\"=\"&O$2)","v":{"$error":"#REF!"}},{"$f":"SUM(Q4:Q15)","v":{"$error":"#REF!"}},{"$f":"COUNTIFS(隐患记录表2022!$J:$J,\"=√\",隐患记录表2022!$C:$C,\"=\"&$B16,隐患记录表2022!#REF!,\"=\"&Q$2)","v":{"$error":"#REF!"}},{"$f":"SUM(S4:S15)","v":{"$error":"#REF!"}},{"$f":"COUNTIFS(隐患记录表2022!$J:$J,\"=√\",隐患记录表2022!$C:$C,\"=\"&$B16,隐患记录表2022!#REF!,\"=\"&S$2)","v":{"$error":"#REF!"}},{"$f":"SUM(U4:U15)","v":{"$error":"#REF!"}},{"$f":"COUNTIFS(隐患记录表2022!$J:$J,\"=√\",隐患记录表2022!$C:$C,\"=\"&$B16,隐患记录表2022!#REF!,\"=\"&U$2)","v":{"$error":"#REF!"}},{"$f":"SUM(W4:W15)","v":{"$error":"#REF!"}},{"$f":"COUNTIFS(隐患记录表2022!$J:$J,\"=√\",隐患记录表2022!$C:$C,\"=\"&$B16,隐患记录表2022!#REF!,\"=\"&W$2)","v":{"$error":"#REF!"}},{"$f":"SUM(Y4:Y15)","v":{"$error":"#REF!"}},{"$f":"COUNTIFS(隐患记录表2022!$J:$J,\"=√\",隐患记录表2022!$C:$C,\"=\"&$B16,隐患记录表2022!#REF!,\"=\"&Y$2)","v":{"$error":"#REF!"}},{"$f":"SUM(AA4:AA15)","v":{"$error":"#REF!"}},{"$f":"COUNTIFS(隐患记录表2022!$J:$J,\"=√\",隐患记录表2022!$C:$C,\"=\"&$B16,隐患记录表2022!#REF!,\"=\"&AA$2)","v":{"$error":"#REF!"}},{"$f":"SUM(AC4:AC15)","v":{"$error":"#REF!"}},{"$f":"COUNTIFS(隐患记录表2022!$J:$J,\"=√\",隐患记录表2022!$C:$C,\"=\"&$B16,隐患记录表2022!#REF!,\"=\"&AC$2)","v":{"$error":"#REF!"}},{"$f":"SUM(AE4:AE15)","v":{"$error":"#REF!"}},{"$f":"COUNTIFS(隐患记录表2022!$J:$J,\"=√\",隐患记录表2022!$C:$C,\"=\"&$B16,隐患记录表2022!#REF!,\"=\"&AE$2)","v":{"$error":"#REF!"}},{"$f":"SUM(AG4:AG15)","v":{"$error":"#REF!"}},{"$f":"COUNTIFS(隐患记录表2022!$J:$J,\"=√\",隐患记录表2022!$C:$C,\"=\"&$B16,隐患记录表2022!#REF!,\"=\"&AG$2)","v":{"$error":"#REF!"}},{"$f":"SUM(AI4:AI15)","v":{"$error":"#REF!"}},{"$error":"#REF!"},{"v":100,"d":"100.00"}]
[null,"整改率",{"$f":"IFERROR(D16/C16*100,100)","v":{"v":100,"d":"100.00"}},null,{"$f":"IFERROR(F16/E16*100,100)","v":{"v":100,"d":"100.00"}},null,{"$f":"IFERROR(H16/G16*100,100)","v":{"v":100,"d":"100.00"}},null,{"$f":"IFERROR(J16/I16*100,100)","v":{"v":100,"d":"100.00"}},null,{"$f":"IFERROR(L16/K16*100,100)","v":{"v":100,"d":"100.00"}},null,{"$f":"IFERROR(N16/M16*100,100)","v":{"v":100,"d":"100.00"}},null,{"$f":"IFERROR(P16/O16*100,100)","v":{"v":100,"d":"100.00"}},null,{"$f":"IFERROR(R16/Q16*100,100)","v":{"v":100,"d":"100.00"}},null,{"$f":"IFERROR(T16/S16*100,100)","v":{"v":100,"d":"100.00"}},null,{"$f":"IFERROR(V16/U16*100,100)","v":{"v":100,"d":"100.00"}},null,{"$f":"IFERROR(X16/W16*100,100)","v":{"v":100,"d":"100.00"}},null,{"$f":"IFERROR(Z16/Y16*100,100)","v":{"v":100,"d":"100.00"}},null,{"$f":"IFERROR(AB16/AA16*100,100)","v":{"v":100,"d":"100.00"}},null,{"$f":"IFERROR(AD16/AC16*100,100)","v":{"v":100,"d":"100.00"}},null,{"$f":"IFERROR(AF16/AE16*100,100)","v":{"v":100,"d":"100.00"}},null,{"$f":"IFERROR(AH16/AG16*100,100)","v":{"v":100,"d":"100.00"}},null,{"$f":"IFERROR(AJ16/AI16*100,100)","v":{"v":100,"d":"100.00"}}]
[null,"列入整改计划",null,null,{"$f":"COUNTA(隐患记录表2022!#REF!)-1","v":0},"整改率",null,{"$f":"(AJ16+E18)/AI16","v":{"$error":"#REF!"}},{"$nulls":5}," "]
{"$rows_empty":36}
[null,"工投集团权属单位隐患分类分析表"]
[]
[]
[]
["隐患类别",null,"物的状态","人的行为","管理缺陷"]
["1月隐患数量",null,{"$f":"COUNTIFS(隐患记录表2022!#REF!,\"=\"&C$59,隐患记录表2022!$C:$C,\"=1月\")","v":{"$error":"#REF!"}},{"$f":"COUNTIFS(隐患记录表2022!#REF!,\"=\"&D$59,隐患记录表2022!$C:$C,\"=1月\")","v":{"$error":"#REF!"}},{"$f":"COUNTIFS(隐患记录表2022!#REF!,\"=\"&E$59,隐患记录表2022!$C:$C,\"=1月\")","v":{"$error":"#REF!"}}]
["2月隐患数量",null,{"$f":"COUNTIFS(隐患记录表2022!#REF!,\"=\"&C$59,隐患记录表2022!$C:$C,\"=2月\")","v":{"$error":"#REF!"}},{"$f":"COUNTIFS(隐患记录表2022!#REF!,\"=\"&D$59,隐患记录表2022!$C:$C,\"=2月\")","v":{"$error":"#REF!"}},{"$f":"COUNTIFS(隐患记录表2022!#REF!,\"=\"&E$59,隐患记录表2022!$C:$C,\"=2月\")","v":{"$error":"#REF!"}}]
["3月隐患数量",null,{"$f":"COUNTIFS(隐患记录表2022!#REF!,\"=\"&C$59,隐患记录表2022!$C:$C,\"=3月\")","v":{"$error":"#REF!"}},{"$f":"COUNTIFS(隐患记录表2022!#REF!,\"=\"&D$59,隐患记录表2022!$C:$C,\"=3月\")","v":{"$error":"#REF!"}},{"$f":"COUNTIFS(隐患记录表2022!#REF!,\"=\"&E$59,隐患记录表2022!$C:$C,\"=3月\")","v":{"$error":"#REF!"}}]
["4月隐患数量",null,{"$f":"COUNTIFS(隐患记录表2022!#REF!,\"=\"&C$59,隐患记录表2022!$C:$C,\"=4月\")","v":{"$error":"#REF!"}},{"$f":"COUNTIFS(隐患记录表2022!#REF!,\"=\"&D$59,隐患记录表2022!$C:$C,\"=4月\")","v":{"$error":"#REF!"}},{"$f":"COUNTIFS(隐患记录表2022!#REF!,\"=\"&E$59,隐患记录表2022!$C:$C,\"=4月\")","v":{"$error":"#REF!"}}]
["5月隐患数量",null,{"$f":"COUNTIFS(隐患记录表2022!#REF!,\"=\"&C$59,隐患记录表2022!$C:$C,\"=5月\")","v":{"$error":"#REF!"}},{"$f":"COUNTIFS(隐患记录表2022!#REF!,\"=\"&D$59,隐患记录表2022!$C:$C,\"=5月\")","v":{"$error":"#REF!"}},{"$f":"COUNTIFS(隐患记录表2022!#REF!,\"=\"&E$59,隐患记录表2022!$C:$C,\"=5月\")","v":{"$error":"#REF!"}}]
["6月隐患数量",null,{"$f":"COUNTIFS(隐患记录表2022!#REF!,\"=\"&C$59,隐患记录表2022!$C:$C,\"=6月\")","v":{"$error":"#REF!"}},{"$f":"COUNTIFS(隐患记录表2022!#REF!,\"=\"&D$59,隐患记录表2022!$C:$C,\"=6月\")","v":{"$error":"#REF!"}},{"$f":"COUNTIFS(隐患记录表2022!#REF!,\"=\"&E$59,隐患记录表2022!$C:$C,\"=6月\")","v":{"$error":"#REF!"}}]
["7月隐患数量",null,{"$f":"COUNTIFS(隐患记录表2022!#REF!,\"=\"&C$59,隐患记录表2022!$C:$C,\"=7月\")","v":{"$error":"#REF!"}},{"$f":"COUNTIFS(隐患记录表2022!#REF!,\"=\"&D$59,隐患记录表2022!$C:$C,\"=7月\")","v":{"$error":"#REF!"}},{"$f":"COUNTIFS(隐患记录表2022!#REF!,\"=\"&E$59,隐患记录表2022!$C:$C,\"=7月\")","v":{"$error":"#REF!"}}]
["8月隐患数量",null,{"$f":"COUNTIFS(隐患记录表2022!#REF!,\"=\"&C$59,隐患记录表2022!$C:$C,\"=8月\")","v":{"$error":"#REF!"}},{"$f":"COUNTIFS(隐患记录表2022!#REF!,\"=\"&D$59,隐患记录表2022!$C:$C,\"=8月\")","v":{"$error":"#REF!"}},{"$f":"COUNTIFS(隐患记录表2022!#REF!,\"=\"&E$59,隐患记录表2022!$C:$C,\"=8月\")","v":{"$error":"#REF!"}}]
["9月隐患数量",null,{"$f":"COUNTIFS(隐患记录表2022!#REF!,\"=\"&C$59,隐患记录表2022!$C:$C,\"=9月\")","v":{"$error":"#REF!"}},{"$f":"COUNTIFS(隐患记录表2022!#REF!,\"=\"&D$59,隐患记录表2022!$C:$C,\"=9月\")","v":{"$error":"#REF!"}},{"$f":"COUNTIFS(隐患记录表2022!#REF!,\"=\"&E$59,隐患记录表2022!$C:$C,\"=9月\")","v":{"$error":"#REF!"}}]
["10月隐患数量",null,{"$f":"COUNTIFS(隐患记录表2022!#REF!,\"=\"&C$59,隐患记录表2022!$C:$C,\"=10月\")","v":{"$error":"#REF!"}},{"$f":"COUNTIFS(隐患记录表2022!#REF!,\"=\"&D$59,隐患记录表2022!$C:$C,\"=10月\")","v":{"$error":"#REF!"}},{"$f":"COUNTIFS(隐患记录表2022!#REF!,\"=\"&E$59,隐患记录表2022!$C:$C,\"=10月\")","v":{"$error":"#REF!"}}]
["11月隐患数量",null,{"$f":"COUNTIFS(隐患记录表2022!#REF!,\"=\"&C$59,隐患记录表2022!$C:$C,\"=11月\")","v":{"$error":"#REF!"}},{"$f":"COUNTIFS(隐患记录表2022!#REF!,\"=\"&D$59,隐患记录表2022!$C:$C,\"=11月\")","v":{"$error":"#REF!"}},{"$f":"COUNTIFS(隐患记录表2022!#REF!,\"=\"&E$59,隐患记录表2022!$C:$C,\"=11月\")","v":{"$error":"#REF!"}}]
["12月隐患数量",null,{"$f":"COUNTIFS(隐患记录表2022!#REF!,\"=\"&C$59,隐患记录表2022!$C:$C,\"=12月\")","v":{"$error":"#REF!"}},{"$f":"COUNTIFS(隐患记录表2022!#REF!,\"=\"&D$59,隐患记录表2022!$C:$C,\"=12月\")","v":{"$error":"#REF!"}},{"$f":"COUNTIFS(隐患记录表2022!#REF!,\"=\"&E$59,隐患记录表2022!$C:$C,\"=12月\")","v":{"$error":"#REF!"}}]
["隐患数量合计",null,{"$f":"SUM(C60:C71)","v":{"$error":"#REF!"}},{"$f":"SUM(D60:D71)","v":{"$error":"#REF!"}},{"$f":"SUM(E60:E71)","v":{"$error":"#REF!"}}]
{"$rows_empty":9}
[{"$nulls":15},"隐患数量","物的状态","人的行为","管理缺陷"]
[{"$nulls":14},2019,{"$f":"SUM(Q83:S83)","v":606},425,4,177]
[{"$nulls":14},2018]
[{"$nulls":14},2017]

{"sheet":"数据","index":1,"n_rows":7,"n_cols":11,"rows_kept":7}
["事故类型","说明","危险等级","说明","事故原因","说明","伤害位置","说明","医疗等级","说明","事故损失"]
["火灾",null,"危险","除发生问题的设备或者个人，可能造成其他可控的后果","设计缺陷","因设计没有考虑到的问题导致事件发生","头、面部",null,"现场救治"]
["伤害",null,"一般","除发生问题的设备或者个人，不产生其他后果","设备缺陷","因为设备的原因，导致事件的发生","手、手臂",null,"医疗救治"]
["环境",null,"非常危险","除发生问题的设备或者个人，能够引起不可控的后果","人为原因","因为人为操作失误造成事件的发生","脚、腿",null,"限工事件"]
["工艺",{"$nulls":3},"管理缺陷","因为缺乏管理造成事件的发生",null,null,"损工事件"]
["爆炸",{"$nulls":3},"其他",{"$nulls":3},"无伤害"]
["其他"]

{"sheet":"隐患记录表2022","index":2,"n_rows":5,"n_cols":10,"rows_kept":5,"merged":[[0,1,0,9]]}
[null,"灌西投资公司百日攻坚安全隐患整治推进表"]
["部门列表","序号","责任单位","时间","检查人员","重点行业领域","隐患内容","整改措施","责任人","是否整改"]
["青口投资公司",1,"灌西投资公司","2022-07-21","李国文、沈志兵、刘洪柱","自建房领域","老农工商大楼斜对面房屋损坏","维修","匡洪富","否"]
["台北投资公司",2,"灌西投资公司","2022-07-20","吴卫平、刘文能","电力领域","资源养殖区变压器超负荷","更换变压器","江德全","否"]
["徐圩投资公司",3,"灌西投资公司","2022-07-20","吴卫平、刘文能","电力领域","西旺养殖区线路对地距离不足","起高","胡亚东","否"]